BEGIN:VCALENDAR
VERSION:2.0
PRODID:-//Cypress Islamic Center - ECPv6.15.17.1//NONSGML v1.0//EN
CALSCALE:GREGORIAN
METHOD:PUBLISH
X-WR-CALNAME:Cypress Islamic Center
X-ORIGINAL-URL:https://cypressislamiccenter.org
X-WR-CALDESC:Events for Cypress Islamic Center
REFRESH-INTERVAL;VALUE=DURATION:PT1H
X-Robots-Tag:noindex
X-PUBLISHED-TTL:PT1H
BEGIN:VTIMEZONE
TZID:America/Chicago
BEGIN:DAYLIGHT
TZOFFSETFROM:-0600
TZOFFSETTO:-0500
TZNAME:CDT
DTSTART:20240310T080000
END:DAYLIGHT
BEGIN:STANDARD
TZOFFSETFROM:-0500
TZOFFSETTO:-0600
TZNAME:CST
DTSTART:20241103T070000
END:STANDARD
BEGIN:DAYLIGHT
TZOFFSETFROM:-0600
TZOFFSETTO:-0500
TZNAME:CDT
DTSTART:20250309T080000
END:DAYLIGHT
BEGIN:STANDARD
TZOFFSETFROM:-0500
TZOFFSETTO:-0600
TZNAME:CST
DTSTART:20251102T070000
END:STANDARD
BEGIN:DAYLIGHT
TZOFFSETFROM:-0600
TZOFFSETTO:-0500
TZNAME:CDT
DTSTART:20260308T080000
END:DAYLIGHT
BEGIN:STANDARD
TZOFFSETFROM:-0500
TZOFFSETTO:-0600
TZNAME:CST
DTSTART:20261101T070000
END:STANDARD
END:VTIMEZONE
BEGIN:VEVENT
DTSTART;TZID=America/Chicago:20250214T180000
DTEND;TZID=America/Chicago:20250214T200000
DTSTAMP:20260419T120445
CREATED:20250212T020516Z
LAST-MODIFIED:20250212T020516Z
UID:5640-1739556000-1739563200@cypressislamiccenter.org
SUMMARY:The Sacred Journey: From Slavery to Islam
DESCRIPTION:
URL:https://cypressislamiccenter.org/event/the-sacred-journey-from-slavery-to-islam/
LOCATION:Cypress Islamic Center\, 16103 Cypress Rosehill Rd.\, Cypress\, TX\, 77429\, United States
CATEGORIES:Community,Community Events
END:VEVENT
BEGIN:VEVENT
DTSTART;TZID=America/Chicago:20250223T140000
DTEND;TZID=America/Chicago:20250223T160000
DTSTAMP:20260419T120445
CREATED:20250211T035606Z
LAST-MODIFIED:20250212T021854Z
UID:5608-1740319200-1740326400@cypressislamiccenter.org
SUMMARY:2025 CIC Ramadan Banner Design Competition
DESCRIPTION:Everyone is invited!\nThe whole community is invited for this fun event. Bring your family to see the great work of contestants and vote for the best design. The top 3 designs will be printed out on real banners and displayed outside the masjid throughout Ramadan.\n   \nPrizes:\n\nCash prizes for the top 3 winners \n\nRules:\n\nThe design must be able to print on a 3’x6′ sized banner\nThe CIC logo must be visible in the design (png attached below)\nThe design must include the words “Ramadan Kareem” or “Ramadan Mubarak”\nAdditional words are allowed\, as long as they are appropriate\, don’t include the names of any friends/family\, keep it so it can be reused each year (no dates like “2025”)\nNO usage of AI tools (ChatGPT\, DeepSeek\, Qwen\, etc.)\nUsage of design software or websites is allowed (Canva\, Photoshop\, Procreate\, etc.)\nONE submission per family\n\nSubmissions:\nDEADLINE: February 21\, 11:59 PM\nYou will receive an email with a link to upload your submission. \nIf there is an issue with the submission format\, you will be contacted on how to correct it\, so check your email on February 22 to see if there were issues. Any submissions past the deadline will be disqualified.\n  \nTips:\nKeep in mind the size of the banner and the distance from which people will see it.\nThis website will help in determining the right font sizes for the text\, and the image below displays how big each font will look on a 3’x6′ banner:\nhttps://www.48hourprint.com/banner-font-size.html \nKeep in mind that very detailed designs might come out slightly blurry and a little cut off on the edges (see image below).\nCIC Logo – click to download\n Loading…
URL:https://cypressislamiccenter.org/event/2025-cic-ramadan-banner-design-competition/
LOCATION:Cypress Islamic Center\, 16103 Cypress Rosehill Rd.\, Cypress\, TX\, 77429\, United States
CATEGORIES:Community,Community Events
ORGANIZER;CN="CIC Sisters' Committee":MAILTO:CICSisters2@gmail.com
END:VEVENT
END:VCALENDAR