BEGIN:VCALENDAR
VERSION:2.0
PRODID:-//Cypress Islamic Center - ECPv6.15.17.1//NONSGML v1.0//EN
CALSCALE:GREGORIAN
METHOD:PUBLISH
X-WR-CALNAME:Cypress Islamic Center
X-ORIGINAL-URL:https://cypressislamiccenter.org
X-WR-CALDESC:Events for Cypress Islamic Center
REFRESH-INTERVAL;VALUE=DURATION:PT1H
X-Robots-Tag:noindex
X-PUBLISHED-TTL:PT1H
BEGIN:VTIMEZONE
TZID:America/Chicago
BEGIN:DAYLIGHT
TZOFFSETFROM:-0600
TZOFFSETTO:-0500
TZNAME:CDT
DTSTART:20240310T080000
END:DAYLIGHT
BEGIN:STANDARD
TZOFFSETFROM:-0500
TZOFFSETTO:-0600
TZNAME:CST
DTSTART:20241103T070000
END:STANDARD
BEGIN:DAYLIGHT
TZOFFSETFROM:-0600
TZOFFSETTO:-0500
TZNAME:CDT
DTSTART:20250309T080000
END:DAYLIGHT
BEGIN:STANDARD
TZOFFSETFROM:-0500
TZOFFSETTO:-0600
TZNAME:CST
DTSTART:20251102T070000
END:STANDARD
BEGIN:DAYLIGHT
TZOFFSETFROM:-0600
TZOFFSETTO:-0500
TZNAME:CDT
DTSTART:20260308T080000
END:DAYLIGHT
BEGIN:STANDARD
TZOFFSETFROM:-0500
TZOFFSETTO:-0600
TZNAME:CST
DTSTART:20261101T070000
END:STANDARD
END:VTIMEZONE
BEGIN:VEVENT
DTSTART;TZID=America/Chicago:20250125T150000
DTEND;TZID=America/Chicago:20250125T170000
DTSTAMP:20260419T133653
CREATED:20250115T044041Z
LAST-MODIFIED:20250115T052814Z
UID:5577-1737817200-1737824400@cypressislamiccenter.org
SUMMARY:CIC Sisters' Meet and Greet
DESCRIPTION:Dear Sisters\, \nAssalamu alaikum! \nAs we stand shoulder to shoulder in prayer\, have you ever wondered who the sister is next to you? What’s her story? What are her passions? \nThe CIC Women Committee invites you to a Meet & Greet event\, exclusively for Muslim women of the Cypress community! This is a unique opportunity to connect with fellow sisters from diverse backgrounds and professions. \nMeet our community’s doctors\, lawyers\, beauticians\, chefs\, and many other talented individuals! \nShare your own story\, passions\, and interests! \nBuild meaningful relationships and friendships! \n﻿﻿Loading…
URL:https://cypressislamiccenter.org/event/cic-sisters-meet-and-greet/
LOCATION:Cypress Islamic Center\, 16103 Cypress Rosehill Rd.\, Cypress\, TX\, 77429\, United States
CATEGORIES:Community,Community Events
ATTACH;FMTTYPE=image/png:https://cypressislamiccenter.org/wp-content/uploads/cic-meet-and-greet-1-25-25-1.png
ORGANIZER;CN="CIC Sisters' Committee":MAILTO:CICSisters2@gmail.com
END:VEVENT
END:VCALENDAR