BEGIN:VCALENDAR
VERSION:2.0
PRODID:-//Cypress Islamic Center - ECPv6.15.17.1//NONSGML v1.0//EN
CALSCALE:GREGORIAN
METHOD:PUBLISH
X-ORIGINAL-URL:https://cypressislamiccenter.org
X-WR-CALDESC:Events for Cypress Islamic Center
REFRESH-INTERVAL;VALUE=DURATION:PT1H
X-Robots-Tag:noindex
X-PUBLISHED-TTL:PT1H
BEGIN:VTIMEZONE
TZID:America/Chicago
BEGIN:DAYLIGHT
TZOFFSETFROM:-0600
TZOFFSETTO:-0500
TZNAME:CDT
DTSTART:20190310T080000
END:DAYLIGHT
BEGIN:STANDARD
TZOFFSETFROM:-0500
TZOFFSETTO:-0600
TZNAME:CST
DTSTART:20191103T070000
END:STANDARD
BEGIN:DAYLIGHT
TZOFFSETFROM:-0600
TZOFFSETTO:-0500
TZNAME:CDT
DTSTART:20200308T080000
END:DAYLIGHT
BEGIN:STANDARD
TZOFFSETFROM:-0500
TZOFFSETTO:-0600
TZNAME:CST
DTSTART:20201101T070000
END:STANDARD
BEGIN:DAYLIGHT
TZOFFSETFROM:-0600
TZOFFSETTO:-0500
TZNAME:CDT
DTSTART:20210314T080000
END:DAYLIGHT
BEGIN:STANDARD
TZOFFSETFROM:-0500
TZOFFSETTO:-0600
TZNAME:CST
DTSTART:20211107T070000
END:STANDARD
END:VTIMEZONE
BEGIN:VEVENT
DTSTART;TZID=America/Chicago:20200926T120000
DTEND;TZID=America/Chicago:20200926T133000
DTSTAMP:20260422T175232
CREATED:20200926T151048Z
LAST-MODIFIED:20200926T151048Z
UID:4620-1601121600-1601127000@cypressislamiccenter.org
SUMMARY:The study of Aqeeda (the foundation of belief)
DESCRIPTION:We will be covering a classical text in Aqeedah called Al ‘Aqeedah Al Tahawiyyah. Please bring a pencil or pen and paper to take notes as the class will require participation and note-taking. \nThe course is taught by Imam Arsalam Majid of Cypress Islamic Center. \nRegistration: Registration is available using the online registration form. \nFee: $25 per family
URL:https://cypressislamiccenter.org/event/the-study-of-aqeeda-the-foundation-of-belief/
LOCATION:Online via Zoom
ATTACH;FMTTYPE=image/png:https://cypressislamiccenter.org/wp-content/uploads/Screen-Shot-2020-09-26-at-10.09.50-AM.png
END:VEVENT
END:VCALENDAR