BEGIN:VCALENDAR
VERSION:2.0
PRODID:-//Cypress Islamic Center - ECPv6.15.17.1//NONSGML v1.0//EN
CALSCALE:GREGORIAN
METHOD:PUBLISH
X-WR-CALNAME:Cypress Islamic Center
X-ORIGINAL-URL:https://cypressislamiccenter.org
X-WR-CALDESC:Events for Cypress Islamic Center
REFRESH-INTERVAL;VALUE=DURATION:PT1H
X-Robots-Tag:noindex
X-PUBLISHED-TTL:PT1H
BEGIN:VTIMEZONE
TZID:America/Chicago
BEGIN:DAYLIGHT
TZOFFSETFROM:-0600
TZOFFSETTO:-0500
TZNAME:CDT
DTSTART:20190310T080000
END:DAYLIGHT
BEGIN:STANDARD
TZOFFSETFROM:-0500
TZOFFSETTO:-0600
TZNAME:CST
DTSTART:20191103T070000
END:STANDARD
BEGIN:DAYLIGHT
TZOFFSETFROM:-0600
TZOFFSETTO:-0500
TZNAME:CDT
DTSTART:20200308T080000
END:DAYLIGHT
BEGIN:STANDARD
TZOFFSETFROM:-0500
TZOFFSETTO:-0600
TZNAME:CST
DTSTART:20201101T070000
END:STANDARD
BEGIN:DAYLIGHT
TZOFFSETFROM:-0600
TZOFFSETTO:-0500
TZNAME:CDT
DTSTART:20210314T080000
END:DAYLIGHT
BEGIN:STANDARD
TZOFFSETFROM:-0500
TZOFFSETTO:-0600
TZNAME:CST
DTSTART:20211107T070000
END:STANDARD
END:VTIMEZONE
BEGIN:VEVENT
DTSTART;TZID=America/Chicago:20200201T110000
DTEND;TZID=America/Chicago:20200201T130000
DTSTAMP:20260423T044038
CREATED:20200123T041005Z
LAST-MODIFIED:20200123T041005Z
UID:4408-1580554800-1580562000@cypressislamiccenter.org
SUMMARY:Sunday School Field Trip - Spring 2020
DESCRIPTION:
URL:https://cypressislamiccenter.org/event/sunday-school-field-trip-spring-2020/
LOCATION:TX
CATEGORIES:Community
END:VEVENT
BEGIN:VEVENT
DTSTART;TZID=America/Chicago:20200201T200000
DTEND;TZID=America/Chicago:20200201T210000
DTSTAMP:20260423T044038
CREATED:20200123T030123Z
LAST-MODIFIED:20200123T030123Z
UID:4376-1580587200-1580590800@cypressislamiccenter.org
SUMMARY:Family Night - February 2020
DESCRIPTION:Meet and Greet\nTeam Introductions\nFinances\nMasjid Construction Update\nShort and Long Term Goals\nDinner at 9
URL:https://cypressislamiccenter.org/event/family-night-february-2020/
LOCATION:Cypress Islamic Center\, 16103 Cypress Rosehill Rd.\, Cypress\, TX\, 77429\, United States
CATEGORIES:Community
ATTACH;FMTTYPE=image/jpeg:https://cypressislamiccenter.org/wp-content/uploads/cic-family-night-feb-2020.jpeg
END:VEVENT
BEGIN:VEVENT
DTSTART;TZID=America/Chicago:20200214T200000
DTEND;TZID=America/Chicago:20200214T203000
DTSTAMP:20260423T044038
CREATED:20200215T012508Z
LAST-MODIFIED:20200215T012508Z
UID:4430-1581710400-1581712200@cypressislamiccenter.org
SUMMARY:Tafsir Class - Friday Nights
DESCRIPTION:
URL:https://cypressislamiccenter.org/event/tafsir-class-friday-nights/
LOCATION:Cypress Islamic Center\, 16103 Cypress Rosehill Rd.\, Cypress\, TX\, 77429\, United States
CATEGORIES:Community
ATTACH;FMTTYPE=image/jpeg:https://cypressislamiccenter.org/wp-content/uploads/PSX_20190411_232259-e1581729841876.jpg
END:VEVENT
BEGIN:VEVENT
DTSTART;TZID=America/Chicago:20200221T200000
DTEND;TZID=America/Chicago:20200221T203000
DTSTAMP:20260423T044038
CREATED:20200215T014907Z
LAST-MODIFIED:20200215T014907Z
UID:4436-1582315200-1582317000@cypressislamiccenter.org
SUMMARY:Tafsir Class – Friday Nights
DESCRIPTION:
URL:https://cypressislamiccenter.org/event/tafsir-class-friday-nights-2/
LOCATION:Cypress Islamic Center\, 16103 Cypress Rosehill Rd.\, Cypress\, TX\, 77429\, United States
CATEGORIES:Community
END:VEVENT
BEGIN:VEVENT
DTSTART;TZID=America/Chicago:20200222T100000
DTEND;TZID=America/Chicago:20200222T120000
DTSTAMP:20260423T044038
CREATED:20200215T021032Z
LAST-MODIFIED:20200215T021032Z
UID:4439-1582365600-1582372800@cypressislamiccenter.org
SUMMARY:Women's Breakfast & Chat
DESCRIPTION:CIC Women’s Committee invites all Moms and daughters to Breakfast and Chat. \nDon’t miss it! Join us to enjoy great conversation and food as we get to know each other better.
URL:https://cypressislamiccenter.org/event/womens-breakfast-chat/
LOCATION:Cypress Islamic Center\, 16103 Cypress Rosehill Rd.\, Cypress\, TX\, 77429\, United States
CATEGORIES:Community Events
ORGANIZER;CN="Cypress Women's Committee":MAILTO:rahilaakhund@gmail.com
END:VEVENT
BEGIN:VEVENT
DTSTART;TZID=America/Chicago:20200228T200000
DTEND;TZID=America/Chicago:20200228T220000
DTSTAMP:20260423T044038
CREATED:20200215T011956Z
LAST-MODIFIED:20200215T011956Z
UID:4426-1582920000-1582927200@cypressislamiccenter.org
SUMMARY:Family Night - February 2020
DESCRIPTION:
URL:https://cypressislamiccenter.org/event/family-night-february-2020-2/
LOCATION:Cypress Islamic Center\, 16103 Cypress Rosehill Rd.\, Cypress\, TX\, 77429\, United States
CATEGORIES:Community
ATTACH;FMTTYPE=image/jpeg:https://cypressislamiccenter.org/wp-content/uploads/20150201_104333.jpg
END:VEVENT
END:VCALENDAR