BEGIN:VCALENDAR
VERSION:2.0
PRODID:-//Cypress Islamic Center - ECPv6.15.17.1//NONSGML v1.0//EN
CALSCALE:GREGORIAN
METHOD:PUBLISH
X-WR-CALNAME:Cypress Islamic Center
X-ORIGINAL-URL:https://cypressislamiccenter.org
X-WR-CALDESC:Events for Cypress Islamic Center
REFRESH-INTERVAL;VALUE=DURATION:PT1H
X-Robots-Tag:noindex
X-PUBLISHED-TTL:PT1H
BEGIN:VTIMEZONE
TZID:America/Chicago
BEGIN:DAYLIGHT
TZOFFSETFROM:-0600
TZOFFSETTO:-0500
TZNAME:CDT
DTSTART:20250309T080000
END:DAYLIGHT
BEGIN:STANDARD
TZOFFSETFROM:-0500
TZOFFSETTO:-0600
TZNAME:CST
DTSTART:20251102T070000
END:STANDARD
BEGIN:DAYLIGHT
TZOFFSETFROM:-0600
TZOFFSETTO:-0500
TZNAME:CDT
DTSTART:20260308T080000
END:DAYLIGHT
BEGIN:STANDARD
TZOFFSETFROM:-0500
TZOFFSETTO:-0600
TZNAME:CST
DTSTART:20261101T070000
END:STANDARD
BEGIN:DAYLIGHT
TZOFFSETFROM:-0600
TZOFFSETTO:-0500
TZNAME:CDT
DTSTART:20270314T080000
END:DAYLIGHT
BEGIN:STANDARD
TZOFFSETFROM:-0500
TZOFFSETTO:-0600
TZNAME:CST
DTSTART:20271107T070000
END:STANDARD
END:VTIMEZONE
BEGIN:VEVENT
DTSTART;TZID=America/Chicago:20260418T170000
DTEND;TZID=America/Chicago:20260418T180000
DTSTAMP:20260419T180444
CREATED:20260415T144731Z
LAST-MODIFIED:20260415T154731Z
UID:6973-1776531600-1776535200@cypressislamiccenter.org
SUMMARY:MFNN Community Garden
DESCRIPTION:At our garden\, people of all faiths work together to grow produce and distribute it in food deserts \n\n\n\nMore info: https://www.facebook.com/people/MFNN-Community-Garden/100094199173595 \n\n\n\nRSVP by Friday\, April 17th at 5PM\n\n\n\n			\n									Thank you for your interest. RSVP for this event has been closed. Please contact the CIC administration for help.
URL:https://cypressislamiccenter.org/event/mfnn-community-garden/
LOCATION:MFNN Community Garden\, 19911 Texas 249 Access Rd\, Houston\, Texas\, 77070
ATTACH;FMTTYPE=image/jpeg:https://cypressislamiccenter.org/wp-content/uploads/Attachment-1.jpeg
END:VEVENT
END:VCALENDAR