BEGIN:VCALENDAR
VERSION:2.0
PRODID:-//Cypress Islamic Center - ECPv6.15.17.1//NONSGML v1.0//EN
CALSCALE:GREGORIAN
METHOD:PUBLISH
X-ORIGINAL-URL:https://cypressislamiccenter.org
X-WR-CALDESC:Events for Cypress Islamic Center
REFRESH-INTERVAL;VALUE=DURATION:PT1H
X-Robots-Tag:noindex
X-PUBLISHED-TTL:PT1H
BEGIN:VTIMEZONE
TZID:America/Chicago
BEGIN:DAYLIGHT
TZOFFSETFROM:-0600
TZOFFSETTO:-0500
TZNAME:CDT
DTSTART:20150308T080000
END:DAYLIGHT
BEGIN:STANDARD
TZOFFSETFROM:-0500
TZOFFSETTO:-0600
TZNAME:CST
DTSTART:20151101T070000
END:STANDARD
BEGIN:DAYLIGHT
TZOFFSETFROM:-0600
TZOFFSETTO:-0500
TZNAME:CDT
DTSTART:20160313T080000
END:DAYLIGHT
BEGIN:STANDARD
TZOFFSETFROM:-0500
TZOFFSETTO:-0600
TZNAME:CST
DTSTART:20161106T070000
END:STANDARD
BEGIN:DAYLIGHT
TZOFFSETFROM:-0600
TZOFFSETTO:-0500
TZNAME:CDT
DTSTART:20170312T080000
END:DAYLIGHT
BEGIN:STANDARD
TZOFFSETFROM:-0500
TZOFFSETTO:-0600
TZNAME:CST
DTSTART:20171105T070000
END:STANDARD
END:VTIMEZONE
BEGIN:VEVENT
DTSTART;TZID=America/Chicago:20160827T120000
DTEND;TZID=America/Chicago:20160827T140000
DTSTAMP:20260420T051104
CREATED:20160821T233928Z
LAST-MODIFIED:20160825T163327Z
UID:3944-1472299200-1472306400@cypressislamiccenter.org
SUMMARY:Sunday School Registration Starts
DESCRIPTION:Assalam Alaikum Dear Cypress Islamic Center Parents: \nWe hope you had a productive and restful summer with family and friends. \nWe want to welcome our children back to a new year at the Cypress Sunday School\, inshallah starting on August 28th  at 10:00 AM. \nREGISTRATION STARTS AUGUST 27\, 2016 – 12:00 – 2:00 PM \nREGISTRATION CONTINUES AND FIRST DAY OF SCHOOL\, AUGUST 28\, 2016 – 9:30 AM -2:00 PM \nRegistration is required for all returning as well as new students.  The tuition is to cover the costs of the school – free lunch\, books\, library\, supplies\, and stipends of a few teachers (who teach Arabic language).  Most of our teachers are volunteers.  Thanks to a host of engaged parent volunteers\, we are able to keep our costs down.  The tuition has not increased in the past two years. \nThe registration fee and other information is available when you come in.  Payment is accepted by checks and credit card.  Cash payments are also accepted.  Receipts are provided for all payments. Registration is essential so that we can anticipate and plan the classes and recruit adequate teachers. \nFor returning students (and parents) we will have an easier registration process. You do not need to fill out a new registration form\, simply sign a pre-filled form available at the registration desk. \nThe school schedule\, and module payment schedule can be found at http://cypressislamiccenter.org/sunday-school/The Cypress Weekend Islamic School enters its 4th year of operations with great expectations. \n  \nThe largely volunteer based school offers a unique learning experience for your children\, ages 4 and up\, through an innovative curriculum that focuses on the Quran (recitation\, memorization)\, Quranic Arabic\, Seerah\, Salat and Dua\, Adab and Islamic studies.  The students are evaluated at the time of admission\, and a few times through the year to ensure learning. \nABOUT THE SCHOOL: \nOur vision is to produce young Muslims who are knowledgeable and confident about their faith Islam\, and are also informed American citizens.  To this end we complement our traditional curriculum with field trips and activities to build leadership skills and community outreach. \n\n\nWe looking forward to an exciting year at the Cypress Weekend Islamic School. For questions\, please contact\, cypresssundayschool@gmail.com \nWassalam\, \nSunday School Management Team
URL:https://cypressislamiccenter.org/event/sunday-school-registration-starts/
LOCATION:Cypress Islamic Center\, 16103 Cypress Rosehill Rd.\, Cypress\, TX\, 77429\, United States
CATEGORIES:Community,Sunday School
ORGANIZER;CN="Sunday School Administration Team":MAILTO:cypresssundayschool@gmail.com
END:VEVENT
BEGIN:VEVENT
DTSTART;TZID=America/Chicago:20160828T100000
DTEND;TZID=America/Chicago:20160828T140000
DTSTAMP:20260420T051104
CREATED:20160821T234052Z
LAST-MODIFIED:20160821T234052Z
UID:3945-1472378400-1472392800@cypressislamiccenter.org
SUMMARY:First day of Sunday School
DESCRIPTION:REGISTRATION CONTINUES AND FIRST DAY OF SCHOOL\, AUGUST 28\, 2016 – 9:30 AM -2:00 PM \nRegistration is required for all returning as well as new students.  The tuition is to cover the costs of the school – free lunch\, books\, library\, supplies\, and stipends of a few teachers (who teach Arabic language).  Most of our teachers are volunteers.  Thanks to a host of engaged parent volunteers\, we are able to keep our costs down.  The tuition has not increased in the past two years. \nThe registration fee and other information is available when you come in.  Payment is accepted by checks and credit card.  Cash payments are also accepted.  Receipts are provided for all payments. Registration is essential so that we can anticipate and plan the classes and recruit adequate teachers. \nFor returning students (and parents) we will have an easier registration process. You do not need to fill out a new registration form\, simply sign a pre-filled form available at the registration desk. \nThe school schedule\, and module payment schedule can be found at http://cypressislamiccenter.org/sunday-school/The Cypress Weekend Islamic School enters its 4th year of operations with great expectations. \nThe largely volunteer based school offers a unique learning experience for your children\, ages 4 and up\, through an innovative curriculum that focuses on the Quran (recitation\, memorization)\, Quranic Arabic\, Seerah\, Salat and Dua\, Adab and Islamic studies.  The students are evaluated at the time of admission\, and a few times through the year to ensure learning. \nWe looking forward to an exciting year at the Cypress Weekend Islamic School. For questions\, please contact\, cypresssundayschool@gmail.com \n\n\nWassalam\, \nSunday School Management Team
URL:https://cypressislamiccenter.org/event/first-day-of-sunday-school/
LOCATION:Cypress Islamic Center\, 16103 Cypress Rosehill Rd.\, Cypress\, TX\, 77429\, United States
CATEGORIES:Community,Sunday School
ORGANIZER;CN="Sunday School Administration Team":MAILTO:cypresssundayschool@gmail.com
END:VEVENT
END:VCALENDAR