BEGIN:VCALENDAR
VERSION:2.0
PRODID:-//Cypress Islamic Center - ECPv6.15.17.1//NONSGML v1.0//EN
CALSCALE:GREGORIAN
METHOD:PUBLISH
X-WR-CALNAME:Cypress Islamic Center
X-ORIGINAL-URL:https://cypressislamiccenter.org
X-WR-CALDESC:Events for Cypress Islamic Center
REFRESH-INTERVAL;VALUE=DURATION:PT1H
X-Robots-Tag:noindex
X-PUBLISHED-TTL:PT1H
BEGIN:VTIMEZONE
TZID:America/Chicago
BEGIN:DAYLIGHT
TZOFFSETFROM:-0600
TZOFFSETTO:-0500
TZNAME:CDT
DTSTART:20150308T080000
END:DAYLIGHT
BEGIN:STANDARD
TZOFFSETFROM:-0500
TZOFFSETTO:-0600
TZNAME:CST
DTSTART:20151101T070000
END:STANDARD
BEGIN:DAYLIGHT
TZOFFSETFROM:-0600
TZOFFSETTO:-0500
TZNAME:CDT
DTSTART:20160313T080000
END:DAYLIGHT
BEGIN:STANDARD
TZOFFSETFROM:-0500
TZOFFSETTO:-0600
TZNAME:CST
DTSTART:20161106T070000
END:STANDARD
BEGIN:DAYLIGHT
TZOFFSETFROM:-0600
TZOFFSETTO:-0500
TZNAME:CDT
DTSTART:20170312T080000
END:DAYLIGHT
BEGIN:STANDARD
TZOFFSETFROM:-0500
TZOFFSETTO:-0600
TZNAME:CST
DTSTART:20171105T070000
END:STANDARD
END:VTIMEZONE
BEGIN:VEVENT
DTSTART;TZID=America/Chicago:20160402T110000
DTEND;TZID=America/Chicago:20160402T160000
DTSTAMP:20260420T104413
CREATED:20160324T013129Z
LAST-MODIFIED:20160324T013129Z
UID:3857-1459594800-1459612800@cypressislamiccenter.org
SUMMARY:Sunday School & Community Picnic
DESCRIPTION:Please join us for the second annual Cypress Sunday School and Community Picnic. \nLunch is served and we hope to have a variety of deserts and snacks. \nEach family is invited to bring a “desert or snack” of their choice. Please RSVP to this event with information about how many family members will be attending\, if  you plan to bring a desert or snack or drink. If you have any questions\, please send us an email at cypresssundayschool@gmail.com \nRSVP here : https://www.punchbowl.com/parties/c87fba704ee40aa90f05  \nThank you for helping us cover some of the expenses of the picnic. \nInshallah we hope to see you on April 2nd to celebrate the Islamic education of our children and for a day of fun and fellowship. \nCypress Weekend Islamic School Team
URL:https://cypressislamiccenter.org/event/sunday-school-community-picnic/
LOCATION:Cullen Park\, 19008 Saums Rd\, Houston\, TN\, 77084\, United States
CATEGORIES:Community,Community Events,Sunday School
END:VEVENT
END:VCALENDAR