BEGIN:VCALENDAR
VERSION:2.0
PRODID:-//Cypress Islamic Center - ECPv6.15.17.1//NONSGML v1.0//EN
CALSCALE:GREGORIAN
METHOD:PUBLISH
X-WR-CALNAME:Cypress Islamic Center
X-ORIGINAL-URL:https://cypressislamiccenter.org
X-WR-CALDESC:Events for Cypress Islamic Center
REFRESH-INTERVAL;VALUE=DURATION:PT1H
X-Robots-Tag:noindex
X-PUBLISHED-TTL:PT1H
BEGIN:VTIMEZONE
TZID:America/Chicago
BEGIN:DAYLIGHT
TZOFFSETFROM:-0600
TZOFFSETTO:-0500
TZNAME:CDT
DTSTART:20140309T080000
END:DAYLIGHT
BEGIN:STANDARD
TZOFFSETFROM:-0500
TZOFFSETTO:-0600
TZNAME:CST
DTSTART:20141102T070000
END:STANDARD
BEGIN:DAYLIGHT
TZOFFSETFROM:-0600
TZOFFSETTO:-0500
TZNAME:CDT
DTSTART:20150308T080000
END:DAYLIGHT
BEGIN:STANDARD
TZOFFSETFROM:-0500
TZOFFSETTO:-0600
TZNAME:CST
DTSTART:20151101T070000
END:STANDARD
BEGIN:DAYLIGHT
TZOFFSETFROM:-0600
TZOFFSETTO:-0500
TZNAME:CDT
DTSTART:20160313T080000
END:DAYLIGHT
BEGIN:STANDARD
TZOFFSETFROM:-0500
TZOFFSETTO:-0600
TZNAME:CST
DTSTART:20161106T070000
END:STANDARD
END:VTIMEZONE
BEGIN:VEVENT
DTSTART;TZID=America/Chicago:20150301T103000
DTEND;TZID=America/Chicago:20150301T103000
DTSTAMP:20260421T065501
CREATED:20140812T095310Z
LAST-MODIFIED:20140812T095310Z
UID:3520-1425205800-1425205800@cypressislamiccenter.org
SUMMARY:9th day of school - Midterm Exam 2
DESCRIPTION:
URL:https://cypressislamiccenter.org/event/9th-day-of-school-midterm-exam-2/
CATEGORIES:spring-2015,Sunday School
ORGANIZER;CN="Sunday School Administration Team":MAILTO:cypresssundayschool@gmail.com
END:VEVENT
BEGIN:VEVENT
DTSTART;VALUE=DATE:20150308
DTEND;VALUE=DATE:20150309
DTSTAMP:20260421T065501
CREATED:20140812T095310Z
LAST-MODIFIED:20140812T095310Z
UID:3521-1425772800-1425859199@cypressislamiccenter.org
SUMMARY:Spring Break
DESCRIPTION:
URL:https://cypressislamiccenter.org/event/spring-break/
CATEGORIES:spring-2015,Sunday School
ORGANIZER;CN="Sunday School Administration Team":MAILTO:cypresssundayschool@gmail.com
END:VEVENT
BEGIN:VEVENT
DTSTART;TZID=America/Chicago:20150315T103000
DTEND;TZID=America/Chicago:20150315T103000
DTSTAMP:20260421T065501
CREATED:20140812T095310Z
LAST-MODIFIED:20140812T095310Z
UID:3522-1426415400-1426415400@cypressislamiccenter.org
SUMMARY:10th day of school; Report cards go home
DESCRIPTION:
URL:https://cypressislamiccenter.org/event/10th-day-of-school-report-cards-go-home/
CATEGORIES:spring-2015,Sunday School
ORGANIZER;CN="Sunday School Administration Team":MAILTO:cypresssundayschool@gmail.com
END:VEVENT
BEGIN:VEVENT
DTSTART;TZID=America/Chicago:20150322T103000
DTEND;TZID=America/Chicago:20150322T103000
DTSTAMP:20260421T065501
CREATED:20140812T095310Z
LAST-MODIFIED:20140812T095310Z
UID:3523-1427020200-1427020200@cypressislamiccenter.org
SUMMARY:11th day of school.
DESCRIPTION:
URL:https://cypressislamiccenter.org/event/11th-day-of-school/
CATEGORIES:spring-2015,Sunday School
ORGANIZER;CN="Sunday School Administration Team":MAILTO:cypresssundayschool@gmail.com
END:VEVENT
BEGIN:VEVENT
DTSTART;TZID=America/Chicago:20150329T141500
DTEND;TZID=America/Chicago:20150329T150000
DTSTAMP:20260421T065501
CREATED:20140812T095310Z
LAST-MODIFIED:20150327T161058Z
UID:3524-1427638500-1427641200@cypressislamiccenter.org
SUMMARY:Parents teacher meeting
DESCRIPTION:We encourage parents to come and discuss their child’s performance with their teacher(s) and provide feedback.
URL:https://cypressislamiccenter.org/event/12thday-parents-teacher-meeting/
LOCATION:Cypress Islamic Center\, 16103 Cypress Rosehill Rd.\, Cypress\, TX\, 77429\, United States
CATEGORIES:spring-2015,Sunday School
ORGANIZER;CN="Sunday School Administration Team":MAILTO:cypresssundayschool@gmail.com
END:VEVENT
END:VCALENDAR