BEGIN:VCALENDAR
VERSION:2.0
PRODID:-//Cypress Islamic Center - ECPv6.15.17.1//NONSGML v1.0//EN
CALSCALE:GREGORIAN
METHOD:PUBLISH
X-WR-CALNAME:Cypress Islamic Center
X-ORIGINAL-URL:https://cypressislamiccenter.org
X-WR-CALDESC:Events for Cypress Islamic Center
REFRESH-INTERVAL;VALUE=DURATION:PT1H
X-Robots-Tag:noindex
X-PUBLISHED-TTL:PT1H
BEGIN:VTIMEZONE
TZID:America/Chicago
BEGIN:DAYLIGHT
TZOFFSETFROM:-0600
TZOFFSETTO:-0500
TZNAME:CDT
DTSTART:20130310T080000
END:DAYLIGHT
BEGIN:STANDARD
TZOFFSETFROM:-0500
TZOFFSETTO:-0600
TZNAME:CST
DTSTART:20131103T070000
END:STANDARD
BEGIN:DAYLIGHT
TZOFFSETFROM:-0600
TZOFFSETTO:-0500
TZNAME:CDT
DTSTART:20140309T080000
END:DAYLIGHT
BEGIN:STANDARD
TZOFFSETFROM:-0500
TZOFFSETTO:-0600
TZNAME:CST
DTSTART:20141102T070000
END:STANDARD
BEGIN:DAYLIGHT
TZOFFSETFROM:-0600
TZOFFSETTO:-0500
TZNAME:CDT
DTSTART:20150308T080000
END:DAYLIGHT
BEGIN:STANDARD
TZOFFSETFROM:-0500
TZOFFSETTO:-0600
TZNAME:CST
DTSTART:20151101T070000
END:STANDARD
END:VTIMEZONE
BEGIN:VEVENT
DTSTART;TZID=America/Chicago:20141108T090000
DTEND;TZID=America/Chicago:20141108T140000
DTSTAMP:20260421T122210
CREATED:20141027T005254Z
LAST-MODIFIED:20141110T090053Z
UID:3575-1415437200-1415455200@cypressislamiccenter.org
SUMMARY:Archery Club Field Trip - Sunday School - Fall 2014
DESCRIPTION:IMG_1279                                                                                                                                                                                                                                                                                                          «              ‹              																										of																					62																	                              ›                »              												                                                                                      \nSunday School students went for a field trip to Buffalo Field Archery Club (http://www.buffaloarchery.org/) on November 8th\, 2014. The day was full of fun activities and ended with a delicious lunch at Jamillah Garden Restaurant. \n 
URL:https://cypressislamiccenter.org/event/fall-2014-sunday-school-field-trip/
LOCATION:Buffalo Field Archery Club\, 13155 Clay Rd \, Houston\, TX\, 77043\, United States
CATEGORIES:Sunday School
ORGANIZER;CN="Sunday School Administration Team":MAILTO:cypresssundayschool@gmail.com
END:VEVENT
BEGIN:VEVENT
DTSTART;TZID=America/Chicago:20141109T103000
DTEND;TZID=America/Chicago:20141109T103000
DTSTAMP:20260421T122210
CREATED:20140812T095309Z
LAST-MODIFIED:20140812T095309Z
UID:3505-1415529000-1415529000@cypressislamiccenter.org
SUMMARY:9th day of school- Review for Exam 1.
DESCRIPTION:
URL:https://cypressislamiccenter.org/event/9th-day-of-school-review-for-exam-1/
CATEGORIES:fall-2015,Sunday School
ORGANIZER;CN="Sunday School Administration Team":MAILTO:cypresssundayschool@gmail.com
END:VEVENT
BEGIN:VEVENT
DTSTART;TZID=America/Chicago:20141116T103000
DTEND;TZID=America/Chicago:20141116T103000
DTSTAMP:20260421T122210
CREATED:20140812T095309Z
LAST-MODIFIED:20140812T095309Z
UID:3506-1416133800-1416133800@cypressislamiccenter.org
SUMMARY:10th day ; Exam # 1
DESCRIPTION:
URL:https://cypressislamiccenter.org/event/10th-day-exam-1/
CATEGORIES:fall-2015,Sunday School
ORGANIZER;CN="Sunday School Administration Team":MAILTO:cypresssundayschool@gmail.com
END:VEVENT
BEGIN:VEVENT
DTSTART;VALUE=DATE:20141123
DTEND;VALUE=DATE:20141124
DTSTAMP:20260421T122210
CREATED:20140812T095309Z
LAST-MODIFIED:20140812T095309Z
UID:3507-1416700800-1416787199@cypressislamiccenter.org
SUMMARY:Thanksgiving Holiday ? No School.
DESCRIPTION:
URL:https://cypressislamiccenter.org/event/thanksgiving-holiday-no-school/
CATEGORIES:fall-2015,Sunday School
ORGANIZER;CN="Sunday School Administration Team":MAILTO:cypresssundayschool@gmail.com
END:VEVENT
BEGIN:VEVENT
DTSTART;TZID=America/Chicago:20141130T103000
DTEND;TZID=America/Chicago:20141130T103000
DTSTAMP:20260421T122210
CREATED:20140812T095309Z
LAST-MODIFIED:20140812T095309Z
UID:3508-1417343400-1417343400@cypressislamiccenter.org
SUMMARY:11th day ? Teachers Meeting.
DESCRIPTION:
URL:https://cypressislamiccenter.org/event/11th-day-teachers-meeting/
CATEGORIES:fall-2015,Sunday School
ORGANIZER;CN="Sunday School Administration Team":MAILTO:cypresssundayschool@gmail.com
END:VEVENT
END:VCALENDAR