BEGIN:VCALENDAR
VERSION:2.0
PRODID:-//Cypress Islamic Center - ECPv6.15.17.1//NONSGML v1.0//EN
CALSCALE:GREGORIAN
METHOD:PUBLISH
X-ORIGINAL-URL:https://cypressislamiccenter.org
X-WR-CALDESC:Events for Cypress Islamic Center
REFRESH-INTERVAL;VALUE=DURATION:PT1H
X-Robots-Tag:noindex
X-PUBLISHED-TTL:PT1H
BEGIN:VTIMEZONE
TZID:America/Chicago
BEGIN:DAYLIGHT
TZOFFSETFROM:-0600
TZOFFSETTO:-0500
TZNAME:CDT
DTSTART:20130310T080000
END:DAYLIGHT
BEGIN:STANDARD
TZOFFSETFROM:-0500
TZOFFSETTO:-0600
TZNAME:CST
DTSTART:20131103T070000
END:STANDARD
BEGIN:DAYLIGHT
TZOFFSETFROM:-0600
TZOFFSETTO:-0500
TZNAME:CDT
DTSTART:20140309T080000
END:DAYLIGHT
BEGIN:STANDARD
TZOFFSETFROM:-0500
TZOFFSETTO:-0600
TZNAME:CST
DTSTART:20141102T070000
END:STANDARD
BEGIN:DAYLIGHT
TZOFFSETFROM:-0600
TZOFFSETTO:-0500
TZNAME:CDT
DTSTART:20150308T080000
END:DAYLIGHT
BEGIN:STANDARD
TZOFFSETFROM:-0500
TZOFFSETTO:-0600
TZNAME:CST
DTSTART:20151101T070000
END:STANDARD
END:VTIMEZONE
BEGIN:VEVENT
DTSTART;TZID=America/Chicago:20140406T103000
DTEND;TZID=America/Chicago:20140406T134500
DTSTAMP:20260421T235245
CREATED:20140225T075223Z
LAST-MODIFIED:20140405T064005Z
UID:3113-1396780200-1396791900@cypressislamiccenter.org
SUMMARY:Exam #4 - Sunday School
DESCRIPTION:
URL:https://cypressislamiccenter.org/event/sunday-school-6/
CATEGORIES:Sunday School
END:VEVENT
BEGIN:VEVENT
DTSTART;TZID=America/Chicago:20140406T140000
DTEND;TZID=America/Chicago:20140406T150000
DTSTAMP:20260421T235245
CREATED:20140401T063811Z
LAST-MODIFIED:20140405T063926Z
UID:3267-1396792800-1396796400@cypressislamiccenter.org
SUMMARY:Bake Sale - Sunday School Library
DESCRIPTION:You are invited to a bake sale on April 6th\, 2014 organized by Cypress Sunday School. \nEnjoy the many baked goods prepared by community members. Taste the desserts from different parts of the world \, from Mediterranean to the sub-continent\, we will have many choices for you to indulge in. \nAll proceeds will go towards the Sunday School Library. \nCome join us in this noble cause.
URL:https://cypressislamiccenter.org/event/bake-sale-sunday-school-library/
LOCATION:Cypress Islamic Center\, 16103 Cypress Rosehill Rd.\, Cypress\, TX\, 77429\, United States
CATEGORIES:Community Events,Sunday School
END:VEVENT
END:VCALENDAR