BEGIN:VCALENDAR
VERSION:2.0
PRODID:-//Cypress Islamic Center - ECPv6.15.17.1//NONSGML v1.0//EN
CALSCALE:GREGORIAN
METHOD:PUBLISH
X-ORIGINAL-URL:https://cypressislamiccenter.org
X-WR-CALDESC:Events for Cypress Islamic Center
REFRESH-INTERVAL;VALUE=DURATION:PT1H
X-Robots-Tag:noindex
X-PUBLISHED-TTL:PT1H
BEGIN:VTIMEZONE
TZID:America/Chicago
BEGIN:DAYLIGHT
TZOFFSETFROM:-0600
TZOFFSETTO:-0500
TZNAME:CDT
DTSTART:20140309T080000
END:DAYLIGHT
BEGIN:STANDARD
TZOFFSETFROM:-0500
TZOFFSETTO:-0600
TZNAME:CST
DTSTART:20141102T070000
END:STANDARD
BEGIN:DAYLIGHT
TZOFFSETFROM:-0600
TZOFFSETTO:-0500
TZNAME:CDT
DTSTART:20150308T080000
END:DAYLIGHT
BEGIN:STANDARD
TZOFFSETFROM:-0500
TZOFFSETTO:-0600
TZNAME:CST
DTSTART:20151101T070000
END:STANDARD
BEGIN:DAYLIGHT
TZOFFSETFROM:-0600
TZOFFSETTO:-0500
TZNAME:CDT
DTSTART:20160313T080000
END:DAYLIGHT
BEGIN:STANDARD
TZOFFSETFROM:-0500
TZOFFSETTO:-0600
TZNAME:CST
DTSTART:20161106T070000
END:STANDARD
END:VTIMEZONE
BEGIN:VEVENT
DTSTART;TZID=America/Chicago:20150322T103000
DTEND;TZID=America/Chicago:20150322T103000
DTSTAMP:20260422T164713
CREATED:20140812T095310Z
LAST-MODIFIED:20140812T095310Z
UID:3523-1427020200-1427020200@cypressislamiccenter.org
SUMMARY:11th day of school.
DESCRIPTION:
URL:https://cypressislamiccenter.org/event/11th-day-of-school/
CATEGORIES:spring-2015,Sunday School
ORGANIZER;CN="Sunday School Administration Team":MAILTO:cypresssundayschool@gmail.com
END:VEVENT
BEGIN:VEVENT
DTSTART;TZID=America/Chicago:20150329T141500
DTEND;TZID=America/Chicago:20150329T150000
DTSTAMP:20260422T164713
CREATED:20140812T095310Z
LAST-MODIFIED:20150327T161058Z
UID:3524-1427638500-1427641200@cypressislamiccenter.org
SUMMARY:Parents teacher meeting
DESCRIPTION:We encourage parents to come and discuss their child’s performance with their teacher(s) and provide feedback.
URL:https://cypressislamiccenter.org/event/12thday-parents-teacher-meeting/
LOCATION:Cypress Islamic Center\, 16103 Cypress Rosehill Rd.\, Cypress\, TX\, 77429\, United States
CATEGORIES:spring-2015,Sunday School
ORGANIZER;CN="Sunday School Administration Team":MAILTO:cypresssundayschool@gmail.com
END:VEVENT
BEGIN:VEVENT
DTSTART;TZID=America/Chicago:20150404T110000
DTEND;TZID=America/Chicago:20150404T160000
DTSTAMP:20260422T164713
CREATED:20140812T095310Z
LAST-MODIFIED:20150401T040620Z
UID:3525-1428145200-1428163200@cypressislamiccenter.org
SUMMARY:Sunday School & Community Picnic
DESCRIPTION:Cypress Weekend Islamic School has organized a picnic for the school community.  We will like to open this up to all members of the community. \nWhen: Saturday\, April 4\, 2015\, 11 am to 4 pm\nWhere: Cullen park\, Phase 2\, Picnic Pavillon A\n19008 Saums Rd\, Houston\, TX 77084 \nLunch is served and we hope to have a variety of deserts and snacks. \nEach family is invited to bring a “desert or snack” of your choice. \nPlease RSVP Online on how many family members will be attending\, if  you plan to bring a desert or snack or drink.  You can also bring plates and napkins and trash bags.  If you have any questions\, please send us an email. \nThank you for helping us cover some of the expenses of the picnic. \nInshallah we hope to see you on April 4th to celebrate the Islamic education of our children and for a day of fun and fellowship.
URL:https://cypressislamiccenter.org/event/sunday-school-and-community-picnic-april-2015/
LOCATION:Cullen Park\, 19008 Saums Rd\, Houston\, TN\, 77084\, United States
CATEGORIES:Community,spring-2015,Sunday School
ATTACH;FMTTYPE=image/jpeg:https://cypressislamiccenter.org/wp-content/uploads/cic-collage-001-e1415727876422.jpg
ORGANIZER;CN="Sunday School Administration Team":MAILTO:cypresssundayschool@gmail.com
END:VEVENT
BEGIN:VEVENT
DTSTART;TZID=America/Chicago:20150503T103000
DTEND;TZID=America/Chicago:20150503T103000
DTSTAMP:20260422T164713
CREATED:20140812T095310Z
LAST-MODIFIED:20150327T160846Z
UID:3530-1430649000-1430649000@cypressislamiccenter.org
SUMMARY:Teacher Appreciation day/ Teachers meeting
DESCRIPTION:
URL:https://cypressislamiccenter.org/event/17th-day-teacher-appreciation-day-teachers-meeting/
CATEGORIES:spring-2015,Sunday School
ORGANIZER;CN="Sunday School Administration Team":MAILTO:cypresssundayschool@gmail.com
END:VEVENT
BEGIN:VEVENT
DTSTART;TZID=America/Chicago:20150503T141500
DTEND;TZID=America/Chicago:20150503T151500
DTSTAMP:20260422T164713
CREATED:20140812T095310Z
LAST-MODIFIED:20150419T003412Z
UID:3528-1430662500-1430666100@cypressislamiccenter.org
SUMMARY:Bake sale spring fundraising
DESCRIPTION:
URL:https://cypressislamiccenter.org/event/bake-sale-spring-fundraising/
LOCATION:Cypress Islamic Center\, 16103 Cypress Rosehill Rd.\, Cypress\, TX\, 77429\, United States
CATEGORIES:spring-2015,Sunday School
ORGANIZER;CN="Sunday School Administration Team":MAILTO:cypresssundayschool@gmail.com
END:VEVENT
BEGIN:VEVENT
DTSTART;TZID=America/Chicago:20150510T103000
DTEND;TZID=America/Chicago:20150510T103000
DTSTAMP:20260422T164713
CREATED:20140812T095310Z
LAST-MODIFIED:20150327T160808Z
UID:3531-1431253800-1431253800@cypressislamiccenter.org
SUMMARY:Final Exam
DESCRIPTION:
URL:https://cypressislamiccenter.org/event/18th-day-final-exam/
CATEGORIES:spring-2015,Sunday School
ORGANIZER;CN="Sunday School Administration Team":MAILTO:cypresssundayschool@gmail.com
END:VEVENT
BEGIN:VEVENT
DTSTART;TZID=America/Chicago:20150517T103000
DTEND;TZID=America/Chicago:20150517T103000
DTSTAMP:20260422T164713
CREATED:20140812T095310Z
LAST-MODIFIED:20150327T160839Z
UID:3532-1431858600-1431858600@cypressislamiccenter.org
SUMMARY:Make up exam/ Graduation day rehearsal
DESCRIPTION:
URL:https://cypressislamiccenter.org/event/19th-day-make-up-exam-graduation-day-rehearsal/
CATEGORIES:spring-2015,Sunday School
ORGANIZER;CN="Sunday School Administration Team":MAILTO:cypresssundayschool@gmail.com
END:VEVENT
BEGIN:VEVENT
DTSTART;TZID=America/Chicago:20150524T103000
DTEND;TZID=America/Chicago:20150524T103000
DTSTAMP:20260422T164713
CREATED:20140812T095310Z
LAST-MODIFIED:20150327T160928Z
UID:3533-1432463400-1432463400@cypressislamiccenter.org
SUMMARY:End of Year Programs & Graduation Celebration
DESCRIPTION:
URL:https://cypressislamiccenter.org/event/end-of-year-programs-graduation-celebration/
CATEGORIES:spring-2015,Sunday School
ORGANIZER;CN="Sunday School Administration Team":MAILTO:cypresssundayschool@gmail.com
END:VEVENT
END:VCALENDAR