BEGIN:VCALENDAR
VERSION:2.0
PRODID:-//Cypress Islamic Center - ECPv6.15.17.1//NONSGML v1.0//EN
CALSCALE:GREGORIAN
METHOD:PUBLISH
X-ORIGINAL-URL:https://cypressislamiccenter.org
X-WR-CALDESC:Events for Cypress Islamic Center
REFRESH-INTERVAL;VALUE=DURATION:PT1H
X-Robots-Tag:noindex
X-PUBLISHED-TTL:PT1H
BEGIN:VTIMEZONE
TZID:America/Chicago
BEGIN:DAYLIGHT
TZOFFSETFROM:-0600
TZOFFSETTO:-0500
TZNAME:CDT
DTSTART:20170312T080000
END:DAYLIGHT
BEGIN:STANDARD
TZOFFSETFROM:-0500
TZOFFSETTO:-0600
TZNAME:CST
DTSTART:20171105T070000
END:STANDARD
BEGIN:DAYLIGHT
TZOFFSETFROM:-0600
TZOFFSETTO:-0500
TZNAME:CDT
DTSTART:20180311T080000
END:DAYLIGHT
BEGIN:STANDARD
TZOFFSETFROM:-0500
TZOFFSETTO:-0600
TZNAME:CST
DTSTART:20181104T070000
END:STANDARD
BEGIN:DAYLIGHT
TZOFFSETFROM:-0600
TZOFFSETTO:-0500
TZNAME:CDT
DTSTART:20190310T080000
END:DAYLIGHT
BEGIN:STANDARD
TZOFFSETFROM:-0500
TZOFFSETTO:-0600
TZNAME:CST
DTSTART:20191103T070000
END:STANDARD
END:VTIMEZONE
BEGIN:VEVENT
DTSTART;TZID=America/Chicago:20180112T184500
DTEND;TZID=America/Chicago:20180112T210000
DTSTAMP:20260420T121434
CREATED:20171231T194157Z
LAST-MODIFIED:20180102T030422Z
UID:4031-1515782700-1515790800@cypressislamiccenter.org
SUMMARY:Family Night - January 2018
DESCRIPTION:“Faithful believers are to each other as the bricks of a wall\, supporting and reinforcing each other. So saying\, the Prophet Muhammad (PBUH) clasped his hands by interlocking his fingers.” (Al-Bukhari)\n\nCypress Islamic Center with great pleasure invites all the community members to attend its upcoming family night on Jan 12th\, 2018. \nProgram schedule:\nMeet and Greet – 6:45 PM \nKick-off speech by Sohail Syed (Associate Director) – 7:00 PM \nLecture by Br. Musab Abdali  – 7:15 PM \nTopic : Building strong families and communities in current times \nIsha Prayer – 8:00 PM \nDinner – 8:20 PM \nAbout the Speaker:\nMusab Abdali a native of Houston has spent the last 10 years as a youth worker and an organizer with YM (Young Muslims). He has also worked with the ICNA Dawah team for several years and has been a khateeb with ISGH since 2013. Currently he is focused on developing strategic relationships with civil rights and inter-faith groups to cultivate a community up-lift program in the inner city. \nHere is Musab Abdali on Fox 26 discussing the dawah programs:
URL:https://cypressislamiccenter.org/event/family-night-january-2018/
LOCATION:Cypress Islamic Center\, 16103 Cypress Rosehill Rd.\, Cypress\, TX\, 77429\, United States
CATEGORIES:Community,Community Events
END:VEVENT
BEGIN:VEVENT
DTSTART;TZID=America/Chicago:20180128T140000
DTEND;TZID=America/Chicago:20180128T150000
DTSTAMP:20260420T121434
CREATED:20180117T193428Z
LAST-MODIFIED:20180117T194140Z
UID:4042-1517148000-1517151600@cypressislamiccenter.org
SUMMARY:Sunday School Bake Sale
DESCRIPTION:Dear parents and community members\, \nPlease join us for Cypress Sunday School Bake Sale \nPlease RSVP to this event with information about how many family members will be attending\, if you plan to bring something from the Potluck list. \nLink to RSVP: https://www.punchbowl.com/parties/28d170a501719e902a92 \nIf you have any questions\, please send us an email at cypresssundayschool@gmail.com \nInshallah we hope to see you on January 28th to celebrate the Islamic education of our children and for a day of fun and fellowship. \nCypress Weekend Islamic School Team\nEmail: cypresssundayschool@gmail.com
URL:https://cypressislamiccenter.org/event/sunday-school-bake-sale/
LOCATION:Cypress Islamic Center\, 16103 Cypress Rosehill Rd.\, Cypress\, TX\, 77429\, United States
CATEGORIES:Community,Sunday School
ATTACH;FMTTYPE=image/jpeg:https://cypressislamiccenter.org/wp-content/uploads/bake-sale-cicwis.jpg
ORGANIZER;CN="Sunday School Administration Team":MAILTO:cypresssundayschool@gmail.com
END:VEVENT
BEGIN:VEVENT
DTSTART;TZID=America/Chicago:20180128T163000
DTEND;TZID=America/Chicago:20180128T193000
DTSTAMP:20260420T121434
CREATED:20180123T182258Z
LAST-MODIFIED:20180123T182403Z
UID:4045-1517157000-1517167800@cypressislamiccenter.org
SUMMARY:CIC Youth Night - Jan 2018
DESCRIPTION:RSVP Online at: https://www.eventbrite.com/e/cic-youth-night-jan-2018-tickets-42260849338
URL:https://cypressislamiccenter.org/event/cic-youth-night-jan-2018/
LOCATION:Cypress Islamic Center\, 16103 Cypress Rosehill Rd.\, Cypress\, TX\, 77429\, United States
CATEGORIES:Community,Sunday School
ATTACH;FMTTYPE=image/jpeg:https://cypressislamiccenter.org/wp-content/uploads/cic-youth-night-jan-28-2018.jpg
END:VEVENT
END:VCALENDAR