BEGIN:VCALENDAR
VERSION:2.0
PRODID:-//Cypress Islamic Center - ECPv6.15.17.1//NONSGML v1.0//EN
CALSCALE:GREGORIAN
METHOD:PUBLISH
X-WR-CALNAME:Cypress Islamic Center
X-ORIGINAL-URL:https://cypressislamiccenter.org
X-WR-CALDESC:Events for Cypress Islamic Center
REFRESH-INTERVAL;VALUE=DURATION:PT1H
X-Robots-Tag:noindex
X-PUBLISHED-TTL:PT1H
BEGIN:VTIMEZONE
TZID:America/Chicago
BEGIN:DAYLIGHT
TZOFFSETFROM:-0600
TZOFFSETTO:-0500
TZNAME:CDT
DTSTART:20160313T080000
END:DAYLIGHT
BEGIN:STANDARD
TZOFFSETFROM:-0500
TZOFFSETTO:-0600
TZNAME:CST
DTSTART:20161106T070000
END:STANDARD
BEGIN:DAYLIGHT
TZOFFSETFROM:-0600
TZOFFSETTO:-0500
TZNAME:CDT
DTSTART:20170312T080000
END:DAYLIGHT
BEGIN:STANDARD
TZOFFSETFROM:-0500
TZOFFSETTO:-0600
TZNAME:CST
DTSTART:20171105T070000
END:STANDARD
BEGIN:DAYLIGHT
TZOFFSETFROM:-0600
TZOFFSETTO:-0500
TZNAME:CDT
DTSTART:20180311T080000
END:DAYLIGHT
BEGIN:STANDARD
TZOFFSETFROM:-0500
TZOFFSETTO:-0600
TZNAME:CST
DTSTART:20181104T070000
END:STANDARD
END:VTIMEZONE
BEGIN:VEVENT
DTSTART;TZID=America/Chicago:20170616T202500
DTEND;TZID=America/Chicago:20170616T202500
DTSTAMP:20260420T222707
CREATED:20170523T192454Z
LAST-MODIFIED:20170615T125444Z
UID:3995-1497644700-1497644700@cypressislamiccenter.org
SUMMARY:Community Iftar
DESCRIPTION:Please join us for a community Iftar arranged by community members.
URL:https://cypressislamiccenter.org/event/community-iftar-20/
LOCATION:Cypress Islamic Center\, 16103 Cypress Rosehill Rd.\, Cypress\, TX\, 77429\, United States
CATEGORIES:Community
END:VEVENT
BEGIN:VEVENT
DTSTART;TZID=America/Chicago:20170623T203000
DTEND;TZID=America/Chicago:20170623T220000
DTSTAMP:20260420T222707
CREATED:20170615T125227Z
LAST-MODIFIED:20170615T125227Z
UID:4005-1498249800-1498255200@cypressislamiccenter.org
SUMMARY:Khatm-ul-Quran & Fundraiser for Masjid and Activity Hall
DESCRIPTION:Cypress Islamic Center invites you to attend the Khatam-ul-Quran and Fundraising for Masjid and Activity Hall \nIftar and dinner will be served and sweets will be distributed in sha Allah.
URL:https://cypressislamiccenter.org/event/khatm-ul-quran-fundraiser-for-masjid-and-activity-hall/
LOCATION:Cypress Islamic Center\, 16103 Cypress Rosehill Rd.\, Cypress\, TX\, 77429\, United States
CATEGORIES:Community
END:VEVENT
END:VCALENDAR