BEGIN:VCALENDAR
VERSION:2.0
PRODID:-//Cypress Islamic Center - ECPv6.15.17.1//NONSGML v1.0//EN
CALSCALE:GREGORIAN
METHOD:PUBLISH
X-ORIGINAL-URL:https://cypressislamiccenter.org
X-WR-CALDESC:Events for Cypress Islamic Center
REFRESH-INTERVAL;VALUE=DURATION:PT1H
X-Robots-Tag:noindex
X-PUBLISHED-TTL:PT1H
BEGIN:VTIMEZONE
TZID:America/Chicago
BEGIN:DAYLIGHT
TZOFFSETFROM:-0600
TZOFFSETTO:-0500
TZNAME:CDT
DTSTART:20160313T080000
END:DAYLIGHT
BEGIN:STANDARD
TZOFFSETFROM:-0500
TZOFFSETTO:-0600
TZNAME:CST
DTSTART:20161106T070000
END:STANDARD
BEGIN:DAYLIGHT
TZOFFSETFROM:-0600
TZOFFSETTO:-0500
TZNAME:CDT
DTSTART:20170312T080000
END:DAYLIGHT
BEGIN:STANDARD
TZOFFSETFROM:-0500
TZOFFSETTO:-0600
TZNAME:CST
DTSTART:20171105T070000
END:STANDARD
BEGIN:DAYLIGHT
TZOFFSETFROM:-0600
TZOFFSETTO:-0500
TZNAME:CDT
DTSTART:20180311T080000
END:DAYLIGHT
BEGIN:STANDARD
TZOFFSETFROM:-0500
TZOFFSETTO:-0600
TZNAME:CST
DTSTART:20181104T070000
END:STANDARD
END:VTIMEZONE
BEGIN:VEVENT
DTSTART;TZID=America/Chicago:20170518T183000
DTEND;TZID=America/Chicago:20170525T200000
DTSTAMP:20260421T000517
CREATED:20170518T214528Z
LAST-MODIFIED:20170518T214528Z
UID:3973-1495132200-1495742400@cypressislamiccenter.org
SUMMARY:Soccer Camp
DESCRIPTION:This camp is offered to all youth ages 8 and up regardless of skill level. Focus will be on age-appropriate skill development including dribbling\, possession\, running with the ball\, defending\, receiving\, first touch\, shooting\, passing and finishing. Emphasis will be on teaching the fundamentals of the game\, developing and improving individual skills based on current ability\, and encouraging a ‘team’ mentality.\nWe have two instructors from the community\, Br. Tanim Choudry (Boys) and Sr. Manha Mujeeb (Girls).\nAges: 8 and up.\nTime: Every Tuesday and Thursday\, between 6:30 – 8:00 p.m.\nCost: $20/child (this will cover some equipment and refreshments).\nCampers should wear proper athletic shoes (cleats not required) and appropriate clothing for the weather (shorts\, socks\, outerwear)\nThe camp will end on May 25th\, 2017 in sha Allah.\nFor more information\, contact: Hassan Abbasi – 832-598-8726 – hassan385@gmail.com
URL:https://cypressislamiccenter.org/event/soccer-camp/
LOCATION:Cypress Islamic Center\, 16103 Cypress Rosehill Rd.\, Cypress\, TX\, 77429\, United States
CATEGORIES:Community
END:VEVENT
END:VCALENDAR