BEGIN:VCALENDAR
VERSION:2.0
PRODID:-//Cypress Islamic Center - ECPv6.15.17.1//NONSGML v1.0//EN
CALSCALE:GREGORIAN
METHOD:PUBLISH
X-ORIGINAL-URL:https://cypressislamiccenter.org
X-WR-CALDESC:Events for Cypress Islamic Center
REFRESH-INTERVAL;VALUE=DURATION:PT1H
X-Robots-Tag:noindex
X-PUBLISHED-TTL:PT1H
BEGIN:VTIMEZONE
TZID:America/Chicago
BEGIN:DAYLIGHT
TZOFFSETFROM:-0600
TZOFFSETTO:-0500
TZNAME:CDT
DTSTART:20150308T080000
END:DAYLIGHT
BEGIN:STANDARD
TZOFFSETFROM:-0500
TZOFFSETTO:-0600
TZNAME:CST
DTSTART:20151101T070000
END:STANDARD
BEGIN:DAYLIGHT
TZOFFSETFROM:-0600
TZOFFSETTO:-0500
TZNAME:CDT
DTSTART:20160313T080000
END:DAYLIGHT
BEGIN:STANDARD
TZOFFSETFROM:-0500
TZOFFSETTO:-0600
TZNAME:CST
DTSTART:20161106T070000
END:STANDARD
BEGIN:DAYLIGHT
TZOFFSETFROM:-0600
TZOFFSETTO:-0500
TZNAME:CDT
DTSTART:20170312T080000
END:DAYLIGHT
BEGIN:STANDARD
TZOFFSETFROM:-0500
TZOFFSETTO:-0600
TZNAME:CST
DTSTART:20171105T070000
END:STANDARD
END:VTIMEZONE
BEGIN:VEVENT
DTSTART;TZID=America/Chicago:20160604T183000
DTEND;TZID=America/Chicago:20160604T200000
DTSTAMP:20260421T155338
CREATED:20160530T180847Z
LAST-MODIFIED:20160530T180930Z
UID:3886-1465065000-1465070400@cypressislamiccenter.org
SUMMARY:Fundraising Planning Meeting
DESCRIPTION:Agenda:\n\nSupport for fundraising at Cypress Islamic Center\nEid Planning\n\n\n  \nPlease join CIC meeting to support upcoming events. All Cypress community residents and CIC council members are requested to attend. \n 
URL:https://cypressislamiccenter.org/event/fundraising-planning-meeting-2016/
LOCATION:Cypress Islamic Center\, 16103 Cypress Rosehill Rd.\, Cypress\, TX\, 77429\, United States
CATEGORIES:Community,Community Events
END:VEVENT
BEGIN:VEVENT
DTSTART;TZID=America/Chicago:20160606T120000
DTEND;TZID=America/Chicago:20160606T140000
DTSTAMP:20260421T155338
CREATED:20160606T170100Z
LAST-MODIFIED:20160606T170230Z
UID:3890-1465214400-1465221600@cypressislamiccenter.org
SUMMARY:Women's Quran Halaqa
DESCRIPTION:Women’s Quran Halaqa of Tafseer by Sr. Sadiqua Anjum
URL:https://cypressislamiccenter.org/event/womens-quran-halaqa/
LOCATION:TX
CATEGORIES:Community
END:VEVENT
BEGIN:VEVENT
DTSTART;TZID=America/Chicago:20160607T120000
DTEND;TZID=America/Chicago:20160607T120000
DTSTAMP:20260421T155338
CREATED:20160606T170100Z
LAST-MODIFIED:20160606T170217Z
UID:3891-1465300800-1465300800@cypressislamiccenter.org
SUMMARY:Women's Quran Halaqa
DESCRIPTION:Women’s Quran Halaqa of Tafseer by Sr. Sadiqua Anjum
URL:https://cypressislamiccenter.org/event/womens-quran-halaqa-2/
LOCATION:TX
CATEGORIES:Community
END:VEVENT
BEGIN:VEVENT
DTSTART;TZID=America/Chicago:20160608T120000
DTEND;TZID=America/Chicago:20160608T120000
DTSTAMP:20260421T155338
CREATED:20160606T170100Z
LAST-MODIFIED:20160606T170217Z
UID:3892-1465387200-1465387200@cypressislamiccenter.org
SUMMARY:Women's Quran Halaqa
DESCRIPTION:Women’s Quran Halaqa of Tafseer by Sr. Sadiqua Anjum
URL:https://cypressislamiccenter.org/event/womens-quran-halaqa-3/
LOCATION:TX
CATEGORIES:Community
END:VEVENT
BEGIN:VEVENT
DTSTART;TZID=America/Chicago:20160609T120000
DTEND;TZID=America/Chicago:20160609T120000
DTSTAMP:20260421T155338
CREATED:20160606T170100Z
LAST-MODIFIED:20160606T170217Z
UID:3893-1465473600-1465473600@cypressislamiccenter.org
SUMMARY:Women's Quran Halaqa
DESCRIPTION:Women’s Quran Halaqa of Tafseer by Sr. Sadiqua Anjum
URL:https://cypressislamiccenter.org/event/womens-quran-halaqa-4/
LOCATION:TX
CATEGORIES:Community
END:VEVENT
BEGIN:VEVENT
DTSTART;TZID=America/Chicago:20160610T120000
DTEND;TZID=America/Chicago:20160610T120000
DTSTAMP:20260421T155338
CREATED:20160606T170100Z
LAST-MODIFIED:20160606T170217Z
UID:3894-1465560000-1465560000@cypressislamiccenter.org
SUMMARY:Women's Quran Halaqa
DESCRIPTION:Women’s Quran Halaqa of Tafseer by Sr. Sadiqua Anjum
URL:https://cypressislamiccenter.org/event/womens-quran-halaqa-5/
LOCATION:TX
CATEGORIES:Community
END:VEVENT
BEGIN:VEVENT
DTSTART;TZID=America/Chicago:20160613T120000
DTEND;TZID=America/Chicago:20160613T120000
DTSTAMP:20260421T155338
CREATED:20160606T170100Z
LAST-MODIFIED:20160606T170217Z
UID:3895-1465819200-1465819200@cypressislamiccenter.org
SUMMARY:Women's Quran Halaqa
DESCRIPTION:Women’s Quran Halaqa of Tafseer by Sr. Sadiqua Anjum
URL:https://cypressislamiccenter.org/event/womens-quran-halaqa-6/
LOCATION:TX
CATEGORIES:Community
END:VEVENT
BEGIN:VEVENT
DTSTART;TZID=America/Chicago:20160614T120000
DTEND;TZID=America/Chicago:20160614T120000
DTSTAMP:20260421T155338
CREATED:20160606T170100Z
LAST-MODIFIED:20160606T170217Z
UID:3896-1465905600-1465905600@cypressislamiccenter.org
SUMMARY:Women's Quran Halaqa
DESCRIPTION:Women’s Quran Halaqa of Tafseer by Sr. Sadiqua Anjum
URL:https://cypressislamiccenter.org/event/womens-quran-halaqa-7/
LOCATION:TX
CATEGORIES:Community
END:VEVENT
BEGIN:VEVENT
DTSTART;TZID=America/Chicago:20160615T120000
DTEND;TZID=America/Chicago:20160615T120000
DTSTAMP:20260421T155338
CREATED:20160606T170100Z
LAST-MODIFIED:20160606T170217Z
UID:3897-1465992000-1465992000@cypressislamiccenter.org
SUMMARY:Women's Quran Halaqa
DESCRIPTION:Women’s Quran Halaqa of Tafseer by Sr. Sadiqua Anjum
URL:https://cypressislamiccenter.org/event/womens-quran-halaqa-8/
LOCATION:TX
CATEGORIES:Community
END:VEVENT
BEGIN:VEVENT
DTSTART;TZID=America/Chicago:20160616T120000
DTEND;TZID=America/Chicago:20160616T120000
DTSTAMP:20260421T155338
CREATED:20160606T170100Z
LAST-MODIFIED:20160606T170217Z
UID:3898-1466078400-1466078400@cypressislamiccenter.org
SUMMARY:Women's Quran Halaqa
DESCRIPTION:Women’s Quran Halaqa of Tafseer by Sr. Sadiqua Anjum
URL:https://cypressislamiccenter.org/event/womens-quran-halaqa-9/
LOCATION:TX
CATEGORIES:Community
END:VEVENT
BEGIN:VEVENT
DTSTART;TZID=America/Chicago:20160617T120000
DTEND;TZID=America/Chicago:20160617T120000
DTSTAMP:20260421T155338
CREATED:20160606T170100Z
LAST-MODIFIED:20160606T170217Z
UID:3899-1466164800-1466164800@cypressislamiccenter.org
SUMMARY:Women's Quran Halaqa
DESCRIPTION:Women’s Quran Halaqa of Tafseer by Sr. Sadiqua Anjum
URL:https://cypressislamiccenter.org/event/womens-quran-halaqa-10/
LOCATION:TX
CATEGORIES:Community
END:VEVENT
BEGIN:VEVENT
DTSTART;TZID=America/Chicago:20160620T120000
DTEND;TZID=America/Chicago:20160620T120000
DTSTAMP:20260421T155338
CREATED:20160606T170100Z
LAST-MODIFIED:20160606T170217Z
UID:3900-1466424000-1466424000@cypressislamiccenter.org
SUMMARY:Women's Quran Halaqa
DESCRIPTION:Women’s Quran Halaqa of Tafseer by Sr. Sadiqua Anjum
URL:https://cypressislamiccenter.org/event/womens-quran-halaqa-11/
LOCATION:TX
CATEGORIES:Community
END:VEVENT
BEGIN:VEVENT
DTSTART;TZID=America/Chicago:20160621T120000
DTEND;TZID=America/Chicago:20160621T120000
DTSTAMP:20260421T155338
CREATED:20160606T170100Z
LAST-MODIFIED:20160606T170217Z
UID:3901-1466510400-1466510400@cypressislamiccenter.org
SUMMARY:Women's Quran Halaqa
DESCRIPTION:Women’s Quran Halaqa of Tafseer by Sr. Sadiqua Anjum
URL:https://cypressislamiccenter.org/event/womens-quran-halaqa-12/
LOCATION:TX
CATEGORIES:Community
END:VEVENT
BEGIN:VEVENT
DTSTART;TZID=America/Chicago:20160622T120000
DTEND;TZID=America/Chicago:20160622T120000
DTSTAMP:20260421T155338
CREATED:20160606T170100Z
LAST-MODIFIED:20160606T170217Z
UID:3902-1466596800-1466596800@cypressislamiccenter.org
SUMMARY:Women's Quran Halaqa
DESCRIPTION:Women’s Quran Halaqa of Tafseer by Sr. Sadiqua Anjum
URL:https://cypressislamiccenter.org/event/womens-quran-halaqa-13/
LOCATION:TX
CATEGORIES:Community
END:VEVENT
BEGIN:VEVENT
DTSTART;TZID=America/Chicago:20160623T120000
DTEND;TZID=America/Chicago:20160623T120000
DTSTAMP:20260421T155338
CREATED:20160606T170100Z
LAST-MODIFIED:20160606T170217Z
UID:3903-1466683200-1466683200@cypressislamiccenter.org
SUMMARY:Women's Quran Halaqa
DESCRIPTION:Women’s Quran Halaqa of Tafseer by Sr. Sadiqua Anjum
URL:https://cypressislamiccenter.org/event/womens-quran-halaqa-14/
LOCATION:TX
CATEGORIES:Community
END:VEVENT
BEGIN:VEVENT
DTSTART;TZID=America/Chicago:20160624T080000
DTEND;TZID=America/Chicago:20160701T230000
DTSTAMP:20260421T155338
CREATED:20160624T020207Z
LAST-MODIFIED:20160624T020207Z
UID:3917-1466755200-1467414000@cypressislamiccenter.org
SUMMARY:Eid Toy Drive
DESCRIPTION:We are collecting new\, unopened gifts for underprivileged children during the month of Ramadan. \nToys will be delivered to a Free Store setup by An Nisa at : \n5721 Hartsdale\, Houston\, TX 77036 \nDrop Off at the masjid \nBring in your contributions by Friday\, July 1st
URL:https://cypressislamiccenter.org/event/eid-toy-drive/
LOCATION:Cypress Islamic Center\, 16103 Cypress Rosehill Rd.\, Cypress\, TX\, 77429\, United States
CATEGORIES:Community
END:VEVENT
BEGIN:VEVENT
DTSTART;TZID=America/Chicago:20160624T120000
DTEND;TZID=America/Chicago:20160624T120000
DTSTAMP:20260421T155338
CREATED:20160606T170100Z
LAST-MODIFIED:20160606T170217Z
UID:3904-1466769600-1466769600@cypressislamiccenter.org
SUMMARY:Women's Quran Halaqa
DESCRIPTION:Women’s Quran Halaqa of Tafseer by Sr. Sadiqua Anjum
URL:https://cypressislamiccenter.org/event/womens-quran-halaqa-15/
LOCATION:TX
CATEGORIES:Community
END:VEVENT
BEGIN:VEVENT
DTSTART;TZID=America/Chicago:20160627T120000
DTEND;TZID=America/Chicago:20160627T120000
DTSTAMP:20260421T155338
CREATED:20160606T170100Z
LAST-MODIFIED:20160606T170217Z
UID:3905-1467028800-1467028800@cypressislamiccenter.org
SUMMARY:Women's Quran Halaqa
DESCRIPTION:Women’s Quran Halaqa of Tafseer by Sr. Sadiqua Anjum
URL:https://cypressislamiccenter.org/event/womens-quran-halaqa-16/
LOCATION:TX
CATEGORIES:Community
END:VEVENT
BEGIN:VEVENT
DTSTART;TZID=America/Chicago:20160628T120000
DTEND;TZID=America/Chicago:20160628T120000
DTSTAMP:20260421T155338
CREATED:20160606T170100Z
LAST-MODIFIED:20160606T170217Z
UID:3906-1467115200-1467115200@cypressislamiccenter.org
SUMMARY:Women's Quran Halaqa
DESCRIPTION:Women’s Quran Halaqa of Tafseer by Sr. Sadiqua Anjum
URL:https://cypressislamiccenter.org/event/womens-quran-halaqa-17/
LOCATION:TX
CATEGORIES:Community
END:VEVENT
BEGIN:VEVENT
DTSTART;TZID=America/Chicago:20160629T120000
DTEND;TZID=America/Chicago:20160629T120000
DTSTAMP:20260421T155338
CREATED:20160606T170100Z
LAST-MODIFIED:20160606T170217Z
UID:3907-1467201600-1467201600@cypressislamiccenter.org
SUMMARY:Women's Quran Halaqa
DESCRIPTION:Women’s Quran Halaqa of Tafseer by Sr. Sadiqua Anjum
URL:https://cypressislamiccenter.org/event/womens-quran-halaqa-18/
LOCATION:TX
CATEGORIES:Community
END:VEVENT
END:VCALENDAR