BEGIN:VCALENDAR
VERSION:2.0
PRODID:-//Cypress Islamic Center - ECPv6.15.17.1//NONSGML v1.0//EN
CALSCALE:GREGORIAN
METHOD:PUBLISH
X-WR-CALNAME:Cypress Islamic Center
X-ORIGINAL-URL:https://cypressislamiccenter.org
X-WR-CALDESC:Events for Cypress Islamic Center
REFRESH-INTERVAL;VALUE=DURATION:PT1H
X-Robots-Tag:noindex
X-PUBLISHED-TTL:PT1H
BEGIN:VTIMEZONE
TZID:America/Chicago
BEGIN:DAYLIGHT
TZOFFSETFROM:-0600
TZOFFSETTO:-0500
TZNAME:CDT
DTSTART:20150308T080000
END:DAYLIGHT
BEGIN:STANDARD
TZOFFSETFROM:-0500
TZOFFSETTO:-0600
TZNAME:CST
DTSTART:20151101T070000
END:STANDARD
BEGIN:DAYLIGHT
TZOFFSETFROM:-0600
TZOFFSETTO:-0500
TZNAME:CDT
DTSTART:20160313T080000
END:DAYLIGHT
BEGIN:STANDARD
TZOFFSETFROM:-0500
TZOFFSETTO:-0600
TZNAME:CST
DTSTART:20161106T070000
END:STANDARD
BEGIN:DAYLIGHT
TZOFFSETFROM:-0600
TZOFFSETTO:-0500
TZNAME:CDT
DTSTART:20170312T080000
END:DAYLIGHT
BEGIN:STANDARD
TZOFFSETFROM:-0500
TZOFFSETTO:-0600
TZNAME:CST
DTSTART:20171105T070000
END:STANDARD
END:VTIMEZONE
BEGIN:VEVENT
DTSTART;TZID=America/Chicago:20160508T100000
DTEND;TZID=America/Chicago:20160508T150000
DTSTAMP:20260421T170516
CREATED:20160425T172410Z
LAST-MODIFIED:20160425T172410Z
UID:3867-1462701600-1462719600@cypressislamiccenter.org
SUMMARY:Community Festival
DESCRIPTION:Join us with your family for the Annual Cypress Islamic Center Community Festival. \nEnjoy great food\, fun rides and variety of vendors from surrounding areas. 
URL:https://cypressislamiccenter.org/event/community-festival/
LOCATION:Cypress Islamic Center\, 16103 Cypress Rosehill Rd.\, Cypress\, TX\, 77429\, United States
CATEGORIES:Community,Community Events
END:VEVENT
BEGIN:VEVENT
DTSTART;TZID=America/Chicago:20160520T203000
DTEND;TZID=America/Chicago:20160520T214000
DTSTAMP:20260421T170516
CREATED:20160520T052843Z
LAST-MODIFIED:20160520T052843Z
UID:3882-1463776200-1463780400@cypressislamiccenter.org
SUMMARY:Town Hall Meeting
DESCRIPTION:ISGH President MJ Khan will be at Cypress Islamic Center to address Community. \nAll community members are requested to join. \nRefreshment will be served \nPlease come with questions and suggestions.
URL:https://cypressislamiccenter.org/event/town-hall-meeting/
LOCATION:Cypress Islamic Center\, 16103 Cypress Rosehill Rd.\, Cypress\, TX\, 77429\, United States
CATEGORIES:Community
END:VEVENT
BEGIN:VEVENT
DTSTART;TZID=America/Chicago:20160522T100000
DTEND;TZID=America/Chicago:20160522T123000
DTSTAMP:20260421T170516
CREATED:20160520T024524Z
LAST-MODIFIED:20160520T024524Z
UID:3879-1463911200-1463920200@cypressislamiccenter.org
SUMMARY:Sunday School Graduation 2016
DESCRIPTION:Please join us for Sunday School Graduation Ceremony 2016. Students from all levels will be performing various programs and your attendance will be encouraging to them. \nAfter the graduation\, we will have a Bake Sale for Sunday School. \nAll community members are cordially invited.
URL:https://cypressislamiccenter.org/event/sunday-school-graduation-2016/
LOCATION:Cypress Islamic Center\, 16103 Cypress Rosehill Rd.\, Cypress\, TX\, 77429\, United States
CATEGORIES:Community,Sunday School
ATTACH;FMTTYPE=image/jpeg:https://cypressislamiccenter.org/wp-content/uploads/cic-wis-graduation-2015.jpg
ORGANIZER;CN="Sunday School Administration Team":MAILTO:cypresssundayschool@gmail.com
END:VEVENT
BEGIN:VEVENT
DTSTART;TZID=America/Chicago:20160527T203000
DTEND;TZID=America/Chicago:20160527T214500
DTSTAMP:20260421T170516
CREATED:20160520T052707Z
LAST-MODIFIED:20160520T052707Z
UID:3881-1464381000-1464385500@cypressislamiccenter.org
SUMMARY:Fiqh of Fasting
DESCRIPTION:
URL:https://cypressislamiccenter.org/event/fiqh-of-fasting/
LOCATION:Cypress Islamic Center\, 16103 Cypress Rosehill Rd.\, Cypress\, TX\, 77429\, United States
CATEGORIES:Community,Community Events
END:VEVENT
END:VCALENDAR