BEGIN:VCALENDAR
VERSION:2.0
PRODID:-//Cypress Islamic Center - ECPv6.15.17.1//NONSGML v1.0//EN
CALSCALE:GREGORIAN
METHOD:PUBLISH
X-ORIGINAL-URL:https://cypressislamiccenter.org
X-WR-CALDESC:Events for Cypress Islamic Center
REFRESH-INTERVAL;VALUE=DURATION:PT1H
X-Robots-Tag:noindex
X-PUBLISHED-TTL:PT1H
BEGIN:VTIMEZONE
TZID:America/Chicago
BEGIN:DAYLIGHT
TZOFFSETFROM:-0600
TZOFFSETTO:-0500
TZNAME:CDT
DTSTART:20140309T080000
END:DAYLIGHT
BEGIN:STANDARD
TZOFFSETFROM:-0500
TZOFFSETTO:-0600
TZNAME:CST
DTSTART:20141102T070000
END:STANDARD
BEGIN:DAYLIGHT
TZOFFSETFROM:-0600
TZOFFSETTO:-0500
TZNAME:CDT
DTSTART:20150308T080000
END:DAYLIGHT
BEGIN:STANDARD
TZOFFSETFROM:-0500
TZOFFSETTO:-0600
TZNAME:CST
DTSTART:20151101T070000
END:STANDARD
BEGIN:DAYLIGHT
TZOFFSETFROM:-0600
TZOFFSETTO:-0500
TZNAME:CDT
DTSTART:20160313T080000
END:DAYLIGHT
BEGIN:STANDARD
TZOFFSETFROM:-0500
TZOFFSETTO:-0600
TZNAME:CST
DTSTART:20161106T070000
END:STANDARD
END:VTIMEZONE
BEGIN:VEVENT
DTSTART;TZID=America/Chicago:20150918T200000
DTEND;TZID=America/Chicago:20150918T210000
DTSTAMP:20260422T043231
CREATED:20150915T182451Z
LAST-MODIFIED:20150915T185625Z
UID:3792-1442606400-1442610000@cypressislamiccenter.org
SUMMARY:Fiqh of Udhiya (Qurbani)
DESCRIPTION:Join us as Imam Aref Hammad presents on the Fiqh of Udhiya (Qurbani) \nAsk your questions to gain better understanding : \n\nFind out the virtues of Udhiya\nRegulations (age\, physical fitness\, the time of slaughtering\, etc.)\nIs it enough to slaughter one sheep for all members of the family\nWhat is the difference between doing udhiya on the first day compared to the second or third\nCan I have someone else slaughter the animal for me?\nHow should the meat be distributed? How much can i keep for my family?\n\n 
URL:https://cypressislamiccenter.org/event/fiqh-of-udhiya-qurbani/
LOCATION:Cypress Islamic Center\, 16103 Cypress Rosehill Rd.\, Cypress\, TX\, 77429\, United States
CATEGORIES:Community
END:VEVENT
BEGIN:VEVENT
DTSTART;TZID=America/Chicago:20150924T073000
DTEND;TZID=America/Chicago:20150924T090000
DTSTAMP:20260422T043231
CREATED:20150923T210432Z
LAST-MODIFIED:20150923T210648Z
UID:3795-1443079800-1443085200@cypressislamiccenter.org
SUMMARY:Eid Prayers
DESCRIPTION:Eid Mubarak!\nEid prayers will be held at Cypress Islamic center \nTakbirat: 7:30 am\nPrayers: 8:00 am\nContinental brakfast will be served.
URL:https://cypressislamiccenter.org/event/eid-prayers/
LOCATION:Cypress Islamic Center\, 16103 Cypress Rosehill Rd.\, Cypress\, TX\, 77429\, United States
CATEGORIES:Community
END:VEVENT
END:VCALENDAR