BEGIN:VCALENDAR
VERSION:2.0
PRODID:-//Cypress Islamic Center - ECPv6.15.17.1//NONSGML v1.0//EN
CALSCALE:GREGORIAN
METHOD:PUBLISH
X-WR-CALNAME:Cypress Islamic Center
X-ORIGINAL-URL:https://cypressislamiccenter.org
X-WR-CALDESC:Events for Cypress Islamic Center
REFRESH-INTERVAL;VALUE=DURATION:PT1H
X-Robots-Tag:noindex
X-PUBLISHED-TTL:PT1H
BEGIN:VTIMEZONE
TZID:America/Chicago
BEGIN:DAYLIGHT
TZOFFSETFROM:-0600
TZOFFSETTO:-0500
TZNAME:CDT
DTSTART:20140309T080000
END:DAYLIGHT
BEGIN:STANDARD
TZOFFSETFROM:-0500
TZOFFSETTO:-0600
TZNAME:CST
DTSTART:20141102T070000
END:STANDARD
BEGIN:DAYLIGHT
TZOFFSETFROM:-0600
TZOFFSETTO:-0500
TZNAME:CDT
DTSTART:20150308T080000
END:DAYLIGHT
BEGIN:STANDARD
TZOFFSETFROM:-0500
TZOFFSETTO:-0600
TZNAME:CST
DTSTART:20151101T070000
END:STANDARD
BEGIN:DAYLIGHT
TZOFFSETFROM:-0600
TZOFFSETTO:-0500
TZNAME:CDT
DTSTART:20160313T080000
END:DAYLIGHT
BEGIN:STANDARD
TZOFFSETFROM:-0500
TZOFFSETTO:-0600
TZNAME:CST
DTSTART:20161106T070000
END:STANDARD
END:VTIMEZONE
BEGIN:VEVENT
DTSTART;TZID=America/Chicago:20150705T193000
DTEND;TZID=America/Chicago:20150705T233000
DTSTAMP:20260422T070303
CREATED:20150612T152750Z
LAST-MODIFIED:20150621T050656Z
UID:3760-1436124600-1436139000@cypressislamiccenter.org
SUMMARY:Dua Night with Sheikh Mohammed Jebril
DESCRIPTION:Sheikh Muhammed Jebril graduated from Al-Azhar University in Egypt and he is among the most prominent reciters of the Holy Quran in the Muslim World today. \nCypress Islamic Center invite entire Houston Muslim community to this once in a lifetime opportunity to listen to his beautiful recitation of Quran and heart touching Dua at 7:30 pm Sunday July 5th\, 2015. \nIftar & Dinner will be served. Child care is available during the event. This is a free event but registration is required. Please reserve your seat today. \nPlease help us spread the words by sharing this event on you Facebook page. Cypress Islamic Center Construction Fund Raising Iftar.
URL:https://cypressislamiccenter.org/event/dua-night-with-sheikh-mohammed-jebril/
LOCATION:Westin Hotel (Memorial City Mall)\, 945 Gessner Rd.\, Houston\, TX\, 77024\, United States
CATEGORIES:Community
END:VEVENT
BEGIN:VEVENT
DTSTART;TZID=America/Chicago:20150711T215000
DTEND;TZID=America/Chicago:20150711T233000
DTSTAMP:20260422T070303
CREATED:20150701T140059Z
LAST-MODIFIED:20150701T140112Z
UID:3778-1436651400-1436657400@cypressislamiccenter.org
SUMMARY:Khatam-ul-Quran 2015
DESCRIPTION:Cypress Islamic Center will have our Khatam-ul-Quran on the 25th night of Ramadhan in sha Allah. \nPlease join us as Sheikh Zakaria leads the Isha and Taraweeh prayers.
URL:https://cypressislamiccenter.org/event/khatam-ul-quran-2015/
LOCATION:Cypress Islamic Center\, 16103 Cypress Rosehill Rd.\, Cypress\, TX\, 77429\, United States
CATEGORIES:Community,Community Events
END:VEVENT
END:VCALENDAR