BEGIN:VCALENDAR
VERSION:2.0
PRODID:-//Cypress Islamic Center - ECPv6.15.17.1//NONSGML v1.0//EN
CALSCALE:GREGORIAN
METHOD:PUBLISH
X-ORIGINAL-URL:https://cypressislamiccenter.org
X-WR-CALDESC:Events for Cypress Islamic Center
REFRESH-INTERVAL;VALUE=DURATION:PT1H
X-Robots-Tag:noindex
X-PUBLISHED-TTL:PT1H
BEGIN:VTIMEZONE
TZID:America/Chicago
BEGIN:DAYLIGHT
TZOFFSETFROM:-0600
TZOFFSETTO:-0500
TZNAME:CDT
DTSTART:20140309T080000
END:DAYLIGHT
BEGIN:STANDARD
TZOFFSETFROM:-0500
TZOFFSETTO:-0600
TZNAME:CST
DTSTART:20141102T070000
END:STANDARD
BEGIN:DAYLIGHT
TZOFFSETFROM:-0600
TZOFFSETTO:-0500
TZNAME:CDT
DTSTART:20150308T080000
END:DAYLIGHT
BEGIN:STANDARD
TZOFFSETFROM:-0500
TZOFFSETTO:-0600
TZNAME:CST
DTSTART:20151101T070000
END:STANDARD
BEGIN:DAYLIGHT
TZOFFSETFROM:-0600
TZOFFSETTO:-0500
TZNAME:CDT
DTSTART:20160313T080000
END:DAYLIGHT
BEGIN:STANDARD
TZOFFSETFROM:-0500
TZOFFSETTO:-0600
TZNAME:CST
DTSTART:20161106T070000
END:STANDARD
END:VTIMEZONE
BEGIN:VEVENT
DTSTART;TZID=America/Chicago:20150404T110000
DTEND;TZID=America/Chicago:20150404T160000
DTSTAMP:20260422T110342
CREATED:20140812T095310Z
LAST-MODIFIED:20150401T040620Z
UID:3525-1428145200-1428163200@cypressislamiccenter.org
SUMMARY:Sunday School & Community Picnic
DESCRIPTION:Cypress Weekend Islamic School has organized a picnic for the school community.  We will like to open this up to all members of the community. \nWhen: Saturday\, April 4\, 2015\, 11 am to 4 pm\nWhere: Cullen park\, Phase 2\, Picnic Pavillon A\n19008 Saums Rd\, Houston\, TX 77084 \nLunch is served and we hope to have a variety of deserts and snacks. \nEach family is invited to bring a “desert or snack” of your choice. \nPlease RSVP Online on how many family members will be attending\, if  you plan to bring a desert or snack or drink.  You can also bring plates and napkins and trash bags.  If you have any questions\, please send us an email. \nThank you for helping us cover some of the expenses of the picnic. \nInshallah we hope to see you on April 4th to celebrate the Islamic education of our children and for a day of fun and fellowship.
URL:https://cypressislamiccenter.org/event/sunday-school-and-community-picnic-april-2015/
LOCATION:Cullen Park\, 19008 Saums Rd\, Houston\, TN\, 77084\, United States
CATEGORIES:Community,spring-2015,Sunday School
ATTACH;FMTTYPE=image/jpeg:https://cypressislamiccenter.org/wp-content/uploads/cic-collage-001-e1415727876422.jpg
ORGANIZER;CN="Sunday School Administration Team":MAILTO:cypresssundayschool@gmail.com
END:VEVENT
BEGIN:VEVENT
DTSTART;TZID=America/Chicago:20150412T193000
DTEND;TZID=America/Chicago:20150412T210000
DTSTAMP:20260422T110342
CREATED:20150327T160417Z
LAST-MODIFIED:20150327T160417Z
UID:3737-1428867000-1428872400@cypressislamiccenter.org
SUMMARY:Tarbiya Lessons from the Quran - Lecture Series
DESCRIPTION:The Quran was revealed to build a nation and to build the people who will build this nation. When the Muslims understood its message and lived it\, they were blessed with great success. In this series of lectures\, we will explore the Tarbiya lessons one can learn from each Sura. In the process you will see the Quran as you have never seen it before. The course will open doors for you to see the Quran from a Tarbiya standpoint of view. One lesson can change your life and lead you to success in this world and in the Hereafter inshaa Allah. Just come and attend one lecture and you will see what I mean. Once you have a taste of it\, you will never want to stop inshaa Allah  \nAbout Dr. Ghazali\nDr. Hamid Ghazali\nDr. Ghazali has a vast experience as an educator. He worked as a teacher at the University of Suez Canal in Egypt for 4 years\, and taught at Kansas State University as teaching Assistant. He also taught middle-school courses in science and other Islamic subjects while working as a principal in Kansas City. He is still teaching at Alhuda University. Read Dr. Ghazali’s Bio
URL:https://cypressislamiccenter.org/event/tarbiya-lessons-from-the-quran-2-2-2-2-2-2/
LOCATION:Cypress Islamic Center\, 16103 Cypress Rosehill Rd.\, Cypress\, TX\, 77429\, United States
CATEGORIES:Community
END:VEVENT
BEGIN:VEVENT
DTSTART;TZID=America/Chicago:20150424T193000
DTEND;TZID=America/Chicago:20150424T210000
DTSTAMP:20260422T110342
CREATED:20140812T095310Z
LAST-MODIFIED:20150327T155846Z
UID:3526-1429903800-1429909200@cypressislamiccenter.org
SUMMARY:Adoption / Foster Care Workshop - Family Night
DESCRIPTION:Speaker: Sarah Haider
URL:https://cypressislamiccenter.org/event/adoption-foster-care-workshop/
LOCATION:Cypress Islamic Center\, 16103 Cypress Rosehill Rd.\, Cypress\, TX\, 77429\, United States
CATEGORIES:Community
END:VEVENT
BEGIN:VEVENT
DTSTART;TZID=America/Chicago:20150426T193000
DTEND;TZID=America/Chicago:20150426T210000
DTSTAMP:20260422T110342
CREATED:20150327T160549Z
LAST-MODIFIED:20150419T003500Z
UID:3738-1430076600-1430082000@cypressislamiccenter.org
SUMMARY:Tarbiya Lessons from the Quran - Sura Al-Maida
DESCRIPTION:The Quran was revealed to build a nation and to build the people who will build this nation. When the Muslims understood its message and lived it\, they were blessed with great success. In this series of lectures\, we will explore the Tarbiya lessons one can learn from each Sura. In the process you will see the Quran as you have never seen it before. The course will open doors for you to see the Quran from a Tarbiya standpoint of view. One lesson can change your life and lead you to success in this world and in the Hereafter inshaa Allah. Just come and attend one lecture and you will see what I mean. Once you have a taste of it\, you will never want to stop inshaa Allah  \nAbout Dr. Ghazali\nDr. Hamid Ghazali\nDr. Ghazali has a vast experience as an educator. He worked as a teacher at the University of Suez Canal in Egypt for 4 years\, and taught at Kansas State University as teaching Assistant. He also taught middle-school courses in science and other Islamic subjects while working as a principal in Kansas City. He is still teaching at Alhuda University. Read Dr. Ghazali’s Bio
URL:https://cypressislamiccenter.org/event/tarbiya-lessons-from-the-quran-2-2-2-2-2-2-2/
LOCATION:Cypress Islamic Center\, 16103 Cypress Rosehill Rd.\, Cypress\, TX\, 77429\, United States
CATEGORIES:Community
END:VEVENT
END:VCALENDAR