BEGIN:VCALENDAR
VERSION:2.0
PRODID:-//Cypress Islamic Center - ECPv6.15.17.1//NONSGML v1.0//EN
CALSCALE:GREGORIAN
METHOD:PUBLISH
X-WR-CALNAME:Cypress Islamic Center
X-ORIGINAL-URL:https://cypressislamiccenter.org
X-WR-CALDESC:Events for Cypress Islamic Center
REFRESH-INTERVAL;VALUE=DURATION:PT1H
X-Robots-Tag:noindex
X-PUBLISHED-TTL:PT1H
BEGIN:VTIMEZONE
TZID:America/Chicago
BEGIN:DAYLIGHT
TZOFFSETFROM:-0600
TZOFFSETTO:-0500
TZNAME:CDT
DTSTART:20140309T080000
END:DAYLIGHT
BEGIN:STANDARD
TZOFFSETFROM:-0500
TZOFFSETTO:-0600
TZNAME:CST
DTSTART:20141102T070000
END:STANDARD
BEGIN:DAYLIGHT
TZOFFSETFROM:-0600
TZOFFSETTO:-0500
TZNAME:CDT
DTSTART:20150308T080000
END:DAYLIGHT
BEGIN:STANDARD
TZOFFSETFROM:-0500
TZOFFSETTO:-0600
TZNAME:CST
DTSTART:20151101T070000
END:STANDARD
BEGIN:DAYLIGHT
TZOFFSETFROM:-0600
TZOFFSETTO:-0500
TZNAME:CDT
DTSTART:20160313T080000
END:DAYLIGHT
BEGIN:STANDARD
TZOFFSETFROM:-0500
TZOFFSETTO:-0600
TZNAME:CST
DTSTART:20161106T070000
END:STANDARD
END:VTIMEZONE
BEGIN:VEVENT
DTSTART;TZID=America/Chicago:20150104T193000
DTEND;TZID=America/Chicago:20150104T210000
DTSTAMP:20260422T145815
CREATED:20141216T161303Z
LAST-MODIFIED:20141216T161303Z
UID:3650-1420399800-1420405200@cypressislamiccenter.org
SUMMARY:Tarbiya Lessons from the Quran - Lecture Series
DESCRIPTION:The Quran was revealed to build a nation and to build the people who will build this nation. When the Muslims understood its message and lived it\, they were blessed with great success. In this series of lectures\, we will explore the Tarbiya lessons one can learn from each Sura. In the process you will see the Quran as you have never seen it before. The course will open doors for you to see the Quran from a Tarbiya standpoint of view. One lesson can change your life and lead you to success in this world and in the Hereafter inshaa Allah. Just come and attend one lecture and you will see what I mean. Once you have a taste of it\, you will never want to stop inshaa Allah  \nAbout Dr. Ghazali\nDr. Hamid Ghazali\nDr. Ghazali has a vast experience as an educator. He worked as a teacher at the University of Suez Canal in Egypt for 4 years\, and taught at Kansas State University as teaching Assistant. He also taught middle-school courses in science and other Islamic subjects while working as a principal in Kansas City. He is still teaching at Alhuda University. Read Dr. Ghazali’s Bio
URL:https://cypressislamiccenter.org/event/tarbiya-lessons-from-the-quran-2-2/
LOCATION:Cypress Islamic Center\, 16103 Cypress Rosehill Rd.\, Cypress\, TX\, 77429\, United States
CATEGORIES:Community
END:VEVENT
BEGIN:VEVENT
DTSTART;TZID=America/Chicago:20150118T193000
DTEND;TZID=America/Chicago:20150118T193000
DTSTAMP:20260422T145815
CREATED:20141216T161533Z
LAST-MODIFIED:20141216T161533Z
UID:3651-1421609400-1421609400@cypressislamiccenter.org
SUMMARY:Tarbiya Lessons from the Quran - Lecture Series
DESCRIPTION:The Quran was revealed to build a nation and to build the people who will build this nation. When the Muslims understood its message and lived it\, they were blessed with great success. In this series of lectures\, we will explore the Tarbiya lessons one can learn from each Sura. In the process you will see the Quran as you have never seen it before. The course will open doors for you to see the Quran from a Tarbiya standpoint of view. One lesson can change your life and lead you to success in this world and in the Hereafter inshaa Allah. Just come and attend one lecture and you will see what I mean. Once you have a taste of it\, you will never want to stop inshaa Allah  \nAbout Dr. Ghazali\nDr. Hamid Ghazali\nDr. Ghazali has a vast experience as an educator. He worked as a teacher at the University of Suez Canal in Egypt for 4 years\, and taught at Kansas State University as teaching Assistant. He also taught middle-school courses in science and other Islamic subjects while working as a principal in Kansas City. He is still teaching at Alhuda University. Read Dr. Ghazali’s Bio
URL:https://cypressislamiccenter.org/event/tarbiya-lessons-from-the-quran-2-2-2/
LOCATION:Cypress Islamic Center\, 16103 Cypress Rosehill Rd.\, Cypress\, TX\, 77429\, United States
CATEGORIES:Community
END:VEVENT
BEGIN:VEVENT
DTSTART;TZID=America/Chicago:20150130T193000
DTEND;TZID=America/Chicago:20150130T210000
DTSTAMP:20260422T145815
CREATED:20150114T215245Z
LAST-MODIFIED:20150124T165904Z
UID:3668-1422646200-1422651600@cypressislamiccenter.org
SUMMARY:Family Night - Pray or Not to Pray
DESCRIPTION:Speaker:\nHafiz Hamzah Ghia \nAbout Hafiz Hamzah Ghia\nHe became Hafiz e Quran at the age of 10. He’s been under the teachings of different Shuyukh. Currently is a student of Sh. Uthman khan he has been a teacher himself since 2004. He is also a founder of ISGH scholarship program. One of the youngest speakers\, student of University of Houston\, youth counselor and teacher at Masjid Hamza.
URL:https://cypressislamiccenter.org/event/family-night-pray-or-not-to-pray/
LOCATION:Cypress Islamic Center\, 16103 Cypress Rosehill Rd.\, Cypress\, TX\, 77429\, United States
CATEGORIES:Community
END:VEVENT
END:VCALENDAR