BEGIN:VCALENDAR
VERSION:2.0
PRODID:-//Cypress Islamic Center - ECPv6.15.17.1//NONSGML v1.0//EN
CALSCALE:GREGORIAN
METHOD:PUBLISH
X-ORIGINAL-URL:https://cypressislamiccenter.org
X-WR-CALDESC:Events for Cypress Islamic Center
REFRESH-INTERVAL;VALUE=DURATION:PT1H
X-Robots-Tag:noindex
X-PUBLISHED-TTL:PT1H
BEGIN:VTIMEZONE
TZID:America/Chicago
BEGIN:DAYLIGHT
TZOFFSETFROM:-0600
TZOFFSETTO:-0500
TZNAME:CDT
DTSTART:20130310T080000
END:DAYLIGHT
BEGIN:STANDARD
TZOFFSETFROM:-0500
TZOFFSETTO:-0600
TZNAME:CST
DTSTART:20131103T070000
END:STANDARD
BEGIN:DAYLIGHT
TZOFFSETFROM:-0600
TZOFFSETTO:-0500
TZNAME:CDT
DTSTART:20140309T080000
END:DAYLIGHT
BEGIN:STANDARD
TZOFFSETFROM:-0500
TZOFFSETTO:-0600
TZNAME:CST
DTSTART:20141102T070000
END:STANDARD
BEGIN:DAYLIGHT
TZOFFSETFROM:-0600
TZOFFSETTO:-0500
TZNAME:CDT
DTSTART:20150308T080000
END:DAYLIGHT
BEGIN:STANDARD
TZOFFSETFROM:-0500
TZOFFSETTO:-0600
TZNAME:CST
DTSTART:20151101T070000
END:STANDARD
END:VTIMEZONE
BEGIN:VEVENT
DTSTART;TZID=America/Chicago:20141205T203000
DTEND;TZID=America/Chicago:20141205T213000
DTSTAMP:20260422T161440
CREATED:20140619T014407Z
LAST-MODIFIED:20140619T014407Z
UID:3356-1417811400-1417815000@cypressislamiccenter.org
SUMMARY:Meet the Associate Director
DESCRIPTION:Want to meet the Associate Director? Ask questions\, provide comments or just chat.\nAssociate Director for Cypress Islamic Center\, Sohail Syed\,  will be available to meet the community every first Friday of the month. \nMeeting time is between salah al-Maghrib and al-Isha.
URL:https://cypressislamiccenter.org/event/meet-the-associate-director-6/
LOCATION:Cypress Islamic Center\, 16103 Cypress Rosehill Rd.\, Cypress\, TX\, 77429\, United States
CATEGORIES:Community
END:VEVENT
BEGIN:VEVENT
DTSTART;TZID=America/Chicago:20141219T190000
DTEND;TZID=America/Chicago:20141219T210000
DTSTAMP:20260422T161440
CREATED:20141015T224015Z
LAST-MODIFIED:20141215T045536Z
UID:3570-1419015600-1419022800@cypressislamiccenter.org
SUMMARY:Youth Night
DESCRIPTION:Cypress Islamic Center is inviting entire community to the family night at the mosque. The main purpose is to bring all Muslim families from Cypress on a common platform where they can meet and socialize with each other and at the same time get the information on the state of the Cypress Islamic Center.
URL:https://cypressislamiccenter.org/event/youth-night-dec-2014/
LOCATION:Cypress Islamic Center\, 16103 Cypress Rosehill Rd.\, Cypress\, TX\, 77429\, United States
CATEGORIES:Community
END:VEVENT
BEGIN:VEVENT
DTSTART;TZID=America/Chicago:20141221T193000
DTEND;TZID=America/Chicago:20141221T210000
DTSTAMP:20260422T161440
CREATED:20141216T161145Z
LAST-MODIFIED:20141216T164455Z
UID:3649-1419190200-1419195600@cypressislamiccenter.org
SUMMARY:Tarbiya Lessons from the Quran - Lecture Series
DESCRIPTION:Topic:\nSura Al-Baqara\nThe story of Talut and Jaalut and lessons we learn from it. \n\nThe Quran was revealed to build a nation and to build the people who will build this nation. When the Muslims understood its message and lived it\, they were blessed with great success. In this series of lectures\, we will explore the Tarbiya lessons one can learn from each Sura. In the process you will see the Quran as you have never seen it before. The course will open doors for you to see the Quran from a Tarbiya standpoint of view. One lesson can change your life and lead you to success in this world and in the Hereafter inshaa Allah. Just come and attend one lecture and you will see what I mean. Once you have a taste of it\, you will never want to stop inshaa Allah  \nAbout Dr. Ghazali\nDr. Hamid Ghazali\nDr. Ghazali has a vast experience as an educator. He worked as a teacher at the University of Suez Canal in Egypt for 4 years\, and taught at Kansas State University as teaching Assistant. He also taught middle-school courses in science and other Islamic subjects while working as a principal in Kansas City. He is still teaching at Alhuda University. Read Dr. Ghazali’s Bio
URL:https://cypressislamiccenter.org/event/tarbiya-lessons-from-the-quran-2/
LOCATION:Cypress Islamic Center\, 16103 Cypress Rosehill Rd.\, Cypress\, TX\, 77429\, United States
CATEGORIES:Community
END:VEVENT
END:VCALENDAR