BEGIN:VCALENDAR
VERSION:2.0
PRODID:-//Cypress Islamic Center - ECPv6.15.17.1//NONSGML v1.0//EN
CALSCALE:GREGORIAN
METHOD:PUBLISH
X-ORIGINAL-URL:https://cypressislamiccenter.org
X-WR-CALDESC:Events for Cypress Islamic Center
REFRESH-INTERVAL;VALUE=DURATION:PT1H
X-Robots-Tag:noindex
X-PUBLISHED-TTL:PT1H
BEGIN:VTIMEZONE
TZID:America/Chicago
BEGIN:DAYLIGHT
TZOFFSETFROM:-0600
TZOFFSETTO:-0500
TZNAME:CDT
DTSTART:20130310T080000
END:DAYLIGHT
BEGIN:STANDARD
TZOFFSETFROM:-0500
TZOFFSETTO:-0600
TZNAME:CST
DTSTART:20131103T070000
END:STANDARD
BEGIN:DAYLIGHT
TZOFFSETFROM:-0600
TZOFFSETTO:-0500
TZNAME:CDT
DTSTART:20140309T080000
END:DAYLIGHT
BEGIN:STANDARD
TZOFFSETFROM:-0500
TZOFFSETTO:-0600
TZNAME:CST
DTSTART:20141102T070000
END:STANDARD
BEGIN:DAYLIGHT
TZOFFSETFROM:-0600
TZOFFSETTO:-0500
TZNAME:CDT
DTSTART:20150308T080000
END:DAYLIGHT
BEGIN:STANDARD
TZOFFSETFROM:-0500
TZOFFSETTO:-0600
TZNAME:CST
DTSTART:20151101T070000
END:STANDARD
END:VTIMEZONE
BEGIN:VEVENT
DTSTART;TZID=America/Chicago:20141003T203000
DTEND;TZID=America/Chicago:20141003T213000
DTSTAMP:20260422T185726
CREATED:20140619T014406Z
LAST-MODIFIED:20140619T014406Z
UID:3354-1412368200-1412371800@cypressislamiccenter.org
SUMMARY:Meet the Associate Director
DESCRIPTION:Want to meet the Associate Director? Ask questions\, provide comments or just chat.\nAssociate Director for Cypress Islamic Center\, Sohail Syed\,  will be available to meet the community every first Friday of the month. \nMeeting time is between salah al-Maghrib and al-Isha.
URL:https://cypressislamiccenter.org/event/meet-the-associate-director-4/
LOCATION:Cypress Islamic Center\, 16103 Cypress Rosehill Rd.\, Cypress\, TX\, 77429\, United States
CATEGORIES:Community
END:VEVENT
BEGIN:VEVENT
DTSTART;TZID=America/Chicago:20141004T080000
DTEND;TZID=America/Chicago:20141004T103000
DTSTAMP:20260422T185726
CREATED:20140925T184055Z
LAST-MODIFIED:20140925T202503Z
UID:3558-1412409600-1412418600@cypressislamiccenter.org
SUMMARY:Eid-ul-Adha Prayers
DESCRIPTION:Inshallah Eidul Adha prayers will be Held at Cypress Islamic Center \n\nTakbirat = 8:00 am\nPrayers  = 8:30 am\n\nBreakfast will be served after Prayers
URL:https://cypressislamiccenter.org/event/eid-ul-adha-prayers/
LOCATION:Cypress Islamic Center\, 16103 Cypress Rosehill Rd.\, Cypress\, TX\, 77429\, United States
CATEGORIES:Community,Community Events
END:VEVENT
BEGIN:VEVENT
DTSTART;TZID=America/Chicago:20141019T133000
DTEND;TZID=America/Chicago:20141019T180000
DTSTAMP:20260422T185726
CREATED:20141015T223053Z
LAST-MODIFIED:20141015T223053Z
UID:3567-1413725400-1413741600@cypressislamiccenter.org
SUMMARY:Eid ul Adha Carnival
DESCRIPTION:LOTS OF PEOPLE\, LOTS OF FOOD\, LOTS OF FUN \n\nMoon Walks\nFace Painting BBQ\nHot dogs\nBurgers\nIce Cones\nCotton Candy\nSoft Drinks\nGames\n\nCome with entire family\, bring your friends along and have fun filled afternoon
URL:https://cypressislamiccenter.org/event/eid-ul-adha-carnival/
LOCATION:Cypress Islamic Center\, 16103 Cypress Rosehill Rd.\, Cypress\, TX\, 77429\, United States
CATEGORIES:Community
ATTACH;FMTTYPE=image/jpeg:https://cypressislamiccenter.org/wp-content/uploads/cic-carnival.jpg
END:VEVENT
END:VCALENDAR