BEGIN:VCALENDAR
VERSION:2.0
PRODID:-//Cypress Islamic Center - ECPv6.15.17.1//NONSGML v1.0//EN
CALSCALE:GREGORIAN
METHOD:PUBLISH
X-ORIGINAL-URL:https://cypressislamiccenter.org
X-WR-CALDESC:Events for Cypress Islamic Center
REFRESH-INTERVAL;VALUE=DURATION:PT1H
X-Robots-Tag:noindex
X-PUBLISHED-TTL:PT1H
BEGIN:VTIMEZONE
TZID:America/Chicago
BEGIN:DAYLIGHT
TZOFFSETFROM:-0600
TZOFFSETTO:-0500
TZNAME:CDT
DTSTART:20250309T080000
END:DAYLIGHT
BEGIN:STANDARD
TZOFFSETFROM:-0500
TZOFFSETTO:-0600
TZNAME:CST
DTSTART:20251102T070000
END:STANDARD
BEGIN:DAYLIGHT
TZOFFSETFROM:-0600
TZOFFSETTO:-0500
TZNAME:CDT
DTSTART:20260308T080000
END:DAYLIGHT
BEGIN:STANDARD
TZOFFSETFROM:-0500
TZOFFSETTO:-0600
TZNAME:CST
DTSTART:20261101T070000
END:STANDARD
BEGIN:DAYLIGHT
TZOFFSETFROM:-0600
TZOFFSETTO:-0500
TZNAME:CDT
DTSTART:20270314T080000
END:DAYLIGHT
BEGIN:STANDARD
TZOFFSETFROM:-0500
TZOFFSETTO:-0600
TZNAME:CST
DTSTART:20271107T070000
END:STANDARD
END:VTIMEZONE
BEGIN:VEVENT
DTSTART;TZID=America/Chicago:20260306T230000
DTEND;TZID=America/Chicago:20260307T050000
DTSTAMP:20260424T000439
CREATED:20260207T172505Z
LAST-MODIFIED:20260305T161052Z
UID:6436-1772838000-1772859600@cypressislamiccenter.org
SUMMARY:CIC Ramadan Girls Lock In!
DESCRIPTION:Join us for a fun night at the Cypress Islamic Center on Friday\, March 6 for a Girl’s Lock In! There will be games\, arts and crafts\, and more! Spots are limited so please RSVP asap with the QR code on the flyer or the link provided below. Don’t miss out on this amazing night! \nRSVP is now closed
URL:https://cypressislamiccenter.org/event/girls-lock-in-2026/
LOCATION:Cypress Islamic Center\, 16103 Cypress Rosehill Rd.\, Cypress\, TX\, 77429\, United States
CATEGORIES:Community Events
ATTACH;FMTTYPE=image/png:https://cypressislamiccenter.org/wp-content/uploads/CIC-Lock-In-Flyer.png
END:VEVENT
END:VCALENDAR